BEGIN:VCALENDAR
VERSION:2.0
PRODID:-//IP.Board Calendar 4.3.6//EN
METHOD:PUBLISH
CALSCALE:GREGORIAN
X-WR-CALNAME:WOG
BEGIN:VTIMEZONE
TZID:Europe/London
TZURL:http://tzurl.org/zoneinfo/Europe/London
X-LIC-LOCATION:Europe/London
BEGIN:DAYLIGHT
TZOFFSETFROM:+0000
TZOFFSETTO:+0100
TZNAME:BST
DTSTART:20140330T020000Z
RRULE:FREQ=YEARLY;BYMONTH=3;BYDAY=-1SU
END:DAYLIGHT
BEGIN:STANDARD
TZOFFSETFROM:+0100
TZOFFSETTO:+0000
TZNAME:GMT
DTSTART:20141026T020000Z
RRULE:FREQ=YEARLY;BYMONTH=10;BYDAY=-1SU
END:STANDARD
END:VTIMEZONE
BEGIN:VEVENT
SUMMARY:Military International Games [MIG]
DTSTAMP:20141010T074106Z
SEQUENCE:1
UID:49-1-5734b46ed07498cf109a779f6d92c724@wogames.info
ORGANIZER;CN="ToxaSM":no-reply@wogames.info
DESCRIPTION:\n\n\n\nMilitary International Games [MIG] 19.10.2014 | The 
	Snow Queen\n\n\n\n\n\n\n \n\n\n\nИнформац
	ии о игре:\nЭнджи 
	Лопез Валенсия
	 \"Снежная короле
	ва\"\,\nМексикан
	ская армия арестовала М
	арио Карденаса\, так же извест
	ного\, как \"El Gordo\" (Тол
	стяк исп.)\, к
	оторый был 
	нашим проп
	лаченным и
	нформатором
	 и уже сдал п
	озицию наше
	й виллы. Мекс
	иканская по
	лиция уже пер
	екрыла все во
	зможные пути 
	бегства\, вклю
	чая аэропорт
	.\nЭкипируйте
	 охрану и за
	щищайте вил
	лу. Мы попр
	обуем орга
	низовать 
	отмену операци
	и по захвату через купленно
	го человека в правительстве.\nMap: Resman Prov
	ince\nTown: Bahijah\n\nТЕМА ДЛЯ ОБСУЖДЕНИЯ\n\n\n
DTSTART;VALUE=DATE:20141019
END:VEVENT
END:VCALENDAR
