BEGIN:VCALENDAR
VERSION:2.0
PRODID:-//IP.Board Calendar 4.3.6//EN
METHOD:PUBLISH
CALSCALE:GREGORIAN
X-WR-CALNAME:WOG
BEGIN:VTIMEZONE
TZID:Europe/London
TZURL:http://tzurl.org/zoneinfo/Europe/London
X-LIC-LOCATION:Europe/London
BEGIN:DAYLIGHT
TZOFFSETFROM:+0000
TZOFFSETTO:+0100
TZNAME:BST
DTSTART:20170326T020000Z
RRULE:FREQ=YEARLY;BYMONTH=3;BYDAY=-1SU
END:DAYLIGHT
BEGIN:STANDARD
TZOFFSETFROM:+0100
TZOFFSETTO:+0000
TZNAME:GMT
DTSTART:20171029T020000Z
RRULE:FREQ=YEARLY;BYMONTH=10;BYDAY=-1SU
END:STANDARD
END:VTIMEZONE
BEGIN:VEVENT
SUMMARY:WOG 21.04.2017 - 22.04.2017
DTSTAMP:20170418T114245Z
SEQUENCE:0
UID:485-1-5734b46ed07498cf109a779f6d92c724@wogames.info
ORGANIZER;CN="sup":no-reply@wogames.info
DESCRIPTION:\n\n	В пятницу 21.04.2017 играем:\n\n\n\n	1. M
	ercalillo Base US Army — TA [Остров — Sahrani] K
	ND в атаке\n\n\n\n	2. Нефтяное поле TL
	 — ОДКБ [Остров — Takistan] KND в
	 обороне\n\n\n\n	3. По кол
	ичеству игроков\n\n\n\n	Игровой админ
	истратор — [RB] RavingRobot\n\n\n\n	 \n\n\n\n	В с
	убботу 22.04.2017 играем:\n\n\n\n	1. Цуг
	цванг ВС РФ — ACR [Остров — Celle] KND в оборон
	е\n\n\n\n	2. Bridgehead Part 2 USMC — TA [Остров — Ali
	abad] KND за красных\n\n\n\n	3. По 
	количеству игроков\n\n\n\n	Игровой
	 администратор — [KND]grifon\n\n\n\n	 \n\n\n\n	
	Командование:\n\n\n\n	\n\n
DTSTART:20170421T180000Z
DTEND:20170422T205900Z
END:VEVENT
END:VCALENDAR
