BEGIN:VCALENDAR
VERSION:2.0
PRODID:-//IP.Board Calendar 4.3.6//EN
METHOD:PUBLISH
CALSCALE:GREGORIAN
X-WR-CALNAME:WOG
BEGIN:VTIMEZONE
TZID:Europe/London
TZURL:http://tzurl.org/zoneinfo/Europe/London
X-LIC-LOCATION:Europe/London
BEGIN:DAYLIGHT
TZOFFSETFROM:+0000
TZOFFSETTO:+0100
TZNAME:BST
DTSTART:20170326T020000Z
RRULE:FREQ=YEARLY;BYMONTH=3;BYDAY=-1SU
END:DAYLIGHT
BEGIN:STANDARD
TZOFFSETFROM:+0100
TZOFFSETTO:+0000
TZNAME:GMT
DTSTART:20171029T020000Z
RRULE:FREQ=YEARLY;BYMONTH=10;BYDAY=-1SU
END:STANDARD
END:VTIMEZONE
BEGIN:VEVENT
SUMMARY:WOG 14.04.2017 - 15.04.2017
DTSTAMP:20170409T184150Z
SEQUENCE:0
UID:480-1-5734b46ed07498cf109a779f6d92c724@wogames.info
ORGANIZER;CN="sup":no-reply@wogames.info
DESCRIPTION:\n\n	В пятницу 14.04.2017 играем:\n\n\n\n	1. 
	Airport armored USMC — ВС РФ [Остров — Chernarus]
	 KND в атаке\n\n\n\n	2. Rising Arrows (↓) NATO — 
	 TL [Остров — Takistan] KND в обороне
	\n\n\n\n	3. По количеству игроков
	\n\n\n\n	Игровой администратор — [GHOST]sup
	\n\n\n\n	 \n\n\n\n	В субботу 15.04.2017 играем
	:\n\n\n\n	1. Ленцбург ВС РФ — US Army [Ос
	тров — Napf] KND в обороне\n\n\n\n	2. FOB
	 Khabur ОДКБ — BAF [Остров — Faysh Khabur] 
	KND в атаке\n\n\n\n	3. По кол
	ичеству игроков\n\n\n\n	Игровой админ
	истратор — [GHOST]Rob\n\n\n\n	 \n\n\n\n	Командовани
	е:\n\n\n\n	\n
DTSTART:20170414T180000Z
DTEND:20170415T205900Z
END:VEVENT
END:VCALENDAR
