BEGIN:VCALENDAR
VERSION:2.0
PRODID:-//IP.Board Calendar 4.3.6//EN
METHOD:PUBLISH
CALSCALE:GREGORIAN
X-WR-CALNAME:WOG
BEGIN:VTIMEZONE
TZID:Europe/London
TZURL:http://tzurl.org/zoneinfo/Europe/London
X-LIC-LOCATION:Europe/London
BEGIN:DAYLIGHT
TZOFFSETFROM:+0000
TZOFFSETTO:+0100
TZNAME:BST
DTSTART:20170326T020000Z
RRULE:FREQ=YEARLY;BYMONTH=3;BYDAY=-1SU
END:DAYLIGHT
BEGIN:STANDARD
TZOFFSETFROM:+0100
TZOFFSETTO:+0000
TZNAME:GMT
DTSTART:20171029T020000Z
RRULE:FREQ=YEARLY;BYMONTH=10;BYDAY=-1SU
END:STANDARD
END:VTIMEZONE
BEGIN:VEVENT
SUMMARY:WOG 07.04.2017 - 08.04.2017
DTSTAMP:20170402T132325Z
SEQUENCE:0
UID:476-1-5734b46ed07498cf109a779f6d92c724@wogames.info
ORGANIZER;CN="sup":no-reply@wogames.info
DESCRIPTION:\n\n	В пятницу 07.04.2017 играем:\n\n\n\n	1. 
	Brother Lingor ВС РФ — NAPA [Остров — Lingor
	] KND в атаке\n\n\n\n	2. База Ха
	ссадар KSK + TL — ВС РФ  [Остро
	в — Fata] KND в обороне\n\n\n\n	3. 
	По количеству игроков\n\n\n\n	Игр
	овой администратор — [RSG]JackReign\n\n\n\n	 \
	n\n\n\n	В субботу 08.04.2017 играем:\n\
	n\n\n	1.  Жук в муравейнике TA — TL
	 [Остров — Fallujah] KND в обороне\n\n\n\n
		2. Wind of change ВС РФ — ЧСО [Остров — Cari
	bou Frontier] KND в атаке\n\n\n\n	3. По к
	оличеству игроков\n\n\n\n	Игровой а
	дминистратор — [GHOST]Rob\n\n\n\n	 \n\n\n\n	Команд
	ование:\n\n\n\n	\n
DTSTART:20170407T180000Z
DTEND:20170408T205900Z
END:VEVENT
END:VCALENDAR
