BEGIN:VCALENDAR
VERSION:2.0
PRODID:-//IP.Board Calendar 4.3.6//EN
METHOD:PUBLISH
CALSCALE:GREGORIAN
X-WR-CALNAME:WOG
BEGIN:VTIMEZONE
TZID:Europe/London
TZURL:http://tzurl.org/zoneinfo/Europe/London
X-LIC-LOCATION:Europe/London
BEGIN:DAYLIGHT
TZOFFSETFROM:+0000
TZOFFSETTO:+0100
TZNAME:BST
DTSTART:20140330T020000Z
RRULE:FREQ=YEARLY;BYMONTH=3;BYDAY=-1SU
END:DAYLIGHT
BEGIN:STANDARD
TZOFFSETFROM:+0100
TZOFFSETTO:+0000
TZNAME:GMT
DTSTART:20141026T020000Z
RRULE:FREQ=YEARLY;BYMONTH=10;BYDAY=-1SU
END:STANDARD
END:VTIMEZONE
BEGIN:VEVENT
SUMMARY:Weekly Open Games - 10.10
DTSTAMP:20141010T073610Z
SEQUENCE:1
UID:47-1-5734b46ed07498cf109a779f6d92c724@wogames.info
ORGANIZER;CN="ToxaSM":no-reply@wogames.info
DESCRIPTION:\n\n\n                                   \n\n\n\n\n\nВ
	 пятницу 10.10.2014 играем:\n\n\n\n1. The Union
	 Jack BAF — ОДКБ [Остров — Reshmaan] KND.TT в о
	бороне \n\n\n\n\n2. \nОперация Кельба
	джар TA — ЧСО  [Остров — Clafghan] KND.TT в атаке
	3. Capraia Syndrom USMC — TM [Остров — Capraia] KND.TT в
	 обороне\n\n\n\n\nТЕМА ДЛЯ ОБСУЖДЕНИЯ\n\n\n
DTSTART;VALUE=DATE:20141010
END:VEVENT
END:VCALENDAR
