BEGIN:VCALENDAR
VERSION:2.0
PRODID:-//IP.Board Calendar 4.3.6//EN
METHOD:PUBLISH
CALSCALE:GREGORIAN
X-WR-CALNAME:WOG
BEGIN:VTIMEZONE
TZID:Europe/London
TZURL:http://tzurl.org/zoneinfo/Europe/London
X-LIC-LOCATION:Europe/London
BEGIN:DAYLIGHT
TZOFFSETFROM:+0000
TZOFFSETTO:+0100
TZNAME:BST
DTSTART:20170326T020000Z
RRULE:FREQ=YEARLY;BYMONTH=3;BYDAY=-1SU
END:DAYLIGHT
BEGIN:STANDARD
TZOFFSETFROM:+0100
TZOFFSETTO:+0000
TZNAME:GMT
DTSTART:20171029T020000Z
RRULE:FREQ=YEARLY;BYMONTH=10;BYDAY=-1SU
END:STANDARD
END:VTIMEZONE
BEGIN:VEVENT
SUMMARY:Weekly Open Games 24.03.2017-25.03.2017
DTSTAMP:20170319T132412Z
SEQUENCE:0
UID:469-1-5734b46ed07498cf109a779f6d92c724@wogames.info
ORGANIZER;CN="RavingRobot":no-reply@wogames.info
DESCRIPTION:\n\n	В пятницу 24.03.2017 играем
	:\n\n\n\n	1. Жук в муравейнике T
	A — TL [Остров — Fallujah] KND 
	в обороне — выбор победителя \"ЧГК? WOG
	\"\n\n\n\n	2. Under Fire Napf TA — US Army [Остров —
	 Napf] KND в атаке\n\n\n\n	3. По ко
	личеству игроков\n\n\n\n	Игровой адм
	инистратор — [KND]crabe\n\n\n\n	 \n\n\n\n	В суб
	боту 25.03.2017 играем:\n\n\n\n	1. Rasman armored v1.9
	 (↓) US Army — TA [Остров — Ta
	kistan] KND в атаке — выбор победит
	еля \"ЧГК? WOG\"\n\n\n\n	2. Чё
	рные птицы ЧДКЗ — ЧСО — ВС РФ
	 [Остров — Chernarus] KND в обороне\
	n\n\n\n	3. По количеству игроков
	\n\n\n\n	Игровой администратор — [GHOS
	T]Rob\n\n\n\n	 \n\n\n\n	Командование:\n\n\n
	\n	\n\n\n	Внимание! 
	Миссии могут быть изменены в 
	течение недели при необходимости.\n\n
DTSTART:20170324T180000Z
DTEND:20170325T185900Z
END:VEVENT
END:VCALENDAR
