BEGIN:VCALENDAR
VERSION:2.0
PRODID:-//IP.Board Calendar 4.3.6//EN
METHOD:PUBLISH
CALSCALE:GREGORIAN
X-WR-CALNAME:WOG
BEGIN:VTIMEZONE
TZID:Europe/London
TZURL:http://tzurl.org/zoneinfo/Europe/London
X-LIC-LOCATION:Europe/London
BEGIN:DAYLIGHT
TZOFFSETFROM:+0000
TZOFFSETTO:+0100
TZNAME:BST
DTSTART:20170326T020000Z
RRULE:FREQ=YEARLY;BYMONTH=3;BYDAY=-1SU
END:DAYLIGHT
BEGIN:STANDARD
TZOFFSETFROM:+0100
TZOFFSETTO:+0000
TZNAME:GMT
DTSTART:20171029T020000Z
RRULE:FREQ=YEARLY;BYMONTH=10;BYDAY=-1SU
END:STANDARD
END:VTIMEZONE
BEGIN:VEVENT
SUMMARY:Weekly Open Games 17.03.2017-18.03.2017
DTSTAMP:20170312T123156Z
SEQUENCE:0
UID:465-1-5734b46ed07498cf109a779f6d92c724@wogames.info
ORGANIZER;CN="RavingRobot":no-reply@wogames.info
DESCRIPTION:\n\n	В пятницу 17.03.2017 играем:\n\n\
	n\n	1. 13-й район US Army — TL [Остров —
	 Fallujah int.] Сторона KND в обороне\n\
	n\n\n	2. Алтарь (↓) ВС РФ — USMC [
	Остров — Chernarus] Сторона KND в
	 атаке\n\n\n\n	3. По количес
	тву игроков\n\n\n\n	Игровой администратор
	 — [RB] RavingRobot\n\n\n\n	 \n\n\n\n	В субботу 18.03.201
	7 играем:\n\n\n\n	1. Shamali TA — TL [Остр
	ов — Takistan] Сторона KND в атаке
	\n\n\n\n	2. Четыре стихии USMC —
	 ОДКБ [Остров — Capraia] Сторо
	на KND в обороне\n\n\n\n	3. П
	о количеству игроков\n\n\n\n	Игро
	вой администратор — [RSG]JackReign\n\n\n\n
		 \n\n\n\n	Командование:\n\n\n\n	\n
DTSTART:20170317T180000Z
DTEND:20170318T185900Z
END:VEVENT
END:VCALENDAR
