BEGIN:VCALENDAR
VERSION:2.0
PRODID:-//IP.Board Calendar 4.3.6//EN
METHOD:PUBLISH
CALSCALE:GREGORIAN
X-WR-CALNAME:WOG
BEGIN:VTIMEZONE
TZID:Europe/London
TZURL:http://tzurl.org/zoneinfo/Europe/London
X-LIC-LOCATION:Europe/London
BEGIN:DAYLIGHT
TZOFFSETFROM:+0000
TZOFFSETTO:+0100
TZNAME:BST
DTSTART:20170326T020000Z
RRULE:FREQ=YEARLY;BYMONTH=3;BYDAY=-1SU
END:DAYLIGHT
BEGIN:STANDARD
TZOFFSETFROM:+0100
TZOFFSETTO:+0000
TZNAME:GMT
DTSTART:20171029T020000Z
RRULE:FREQ=YEARLY;BYMONTH=10;BYDAY=-1SU
END:STANDARD
END:VTIMEZONE
BEGIN:VEVENT
SUMMARY:WOG 10.03.2017 - 11.03.2017
DTSTAMP:20170306T152750Z
SEQUENCE:0
UID:462-1-5734b46ed07498cf109a779f6d92c724@wogames.info
ORGANIZER;CN="sup":no-reply@wogames.info
DESCRIPTION:\n\n	В пятницу 10.03.2017 играем:\n\n\n\n	1. 
	D-Day in Paradise (v1.1) USMC — ТА [Остров — Sa
	hrani] KND в обороне\n\n\n\n	2. Operation \"Hot
	\" ЧСО — ЧДКЗ [Остров — Schwemlitz Winter] K
	ND в атаке\n\n\n\n	3. По коли
	честву игроков\n\n\n\n	Игровой админис
	тратор — [GHOST]Rob\n\n\n\n	 \n\n\n\n	В субботу 11.
	03.2017 играем:\n\n\n\n	1. Бит
	ва за Электрозаводск ЧСО — Ч
	ДКЗ + ВС РФ [Остров — Chernarus] KND в атаке\n\n\n\n	
	2. Basic Training (153) TA — INS + PMC [Остров —T
	akistan] KND в обороне\n\n\n\n	3. По 
	количеству игроков\n\n\n\n	Игровой
	 администратор — [KND]grifon\n\n\n\n	 \n\n\n\n	Ко
	мандование:\n\n\n\n	\n
DTSTART:20170310T180000Z
DTEND:20170311T205900Z
END:VEVENT
END:VCALENDAR
