BEGIN:VCALENDAR
VERSION:2.0
PRODID:-//IP.Board Calendar 4.3.6//EN
METHOD:PUBLISH
CALSCALE:GREGORIAN
X-WR-CALNAME:WOG
BEGIN:VTIMEZONE
TZID:Europe/London
TZURL:http://tzurl.org/zoneinfo/Europe/London
X-LIC-LOCATION:Europe/London
BEGIN:DAYLIGHT
TZOFFSETFROM:+0000
TZOFFSETTO:+0100
TZNAME:BST
DTSTART:20140330T020000Z
RRULE:FREQ=YEARLY;BYMONTH=3;BYDAY=-1SU
END:DAYLIGHT
BEGIN:STANDARD
TZOFFSETFROM:+0100
TZOFFSETTO:+0000
TZNAME:GMT
DTSTART:20141026T020000Z
RRULE:FREQ=YEARLY;BYMONTH=10;BYDAY=-1SU
END:STANDARD
END:VTIMEZONE
BEGIN:VEVENT
SUMMARY:mWOG 08.10.14 - Будничные игры
DTSTAMP:20141006T074755Z
SEQUENCE:0
UID:46-1-5734b46ed07498cf109a779f6d92c724@wogames.info
ORGANIZER;CN="ToxaSM":no-reply@wogames.info
DESCRIPTION:\n\n\n\n\nСписок миссий:\n1. Пол
	ицейские будни TK resistance + TK civilian — TK A
	rmy + Police [Остров — Такистан] сторона 
	KND.TT в обороне за TK Army + Police\n
	2. Эхо войны ЧДКЗ — НАПА [Ост
	ров — Beketov] сторона KND.TT в атаке за ЧДКЗ\n3
	. Old Factory INS — USMC+GER — Наемники [Остро
	в — Celle] сторона KND.TT в обороне за USMC+GER\n
DTSTART;VALUE=DATE:20141008
END:VEVENT
END:VCALENDAR
