BEGIN:VCALENDAR
VERSION:2.0
PRODID:-//IP.Board Calendar 4.3.6//EN
METHOD:PUBLISH
CALSCALE:GREGORIAN
X-WR-CALNAME:WOG
BEGIN:VTIMEZONE
TZID:Europe/London
TZURL:http://tzurl.org/zoneinfo/Europe/London
X-LIC-LOCATION:Europe/London
BEGIN:DAYLIGHT
TZOFFSETFROM:+0000
TZOFFSETTO:+0100
TZNAME:BST
DTSTART:20170326T020000Z
RRULE:FREQ=YEARLY;BYMONTH=3;BYDAY=-1SU
END:DAYLIGHT
BEGIN:STANDARD
TZOFFSETFROM:+0100
TZOFFSETTO:+0000
TZNAME:GMT
DTSTART:20171029T020000Z
RRULE:FREQ=YEARLY;BYMONTH=10;BYDAY=-1SU
END:STANDARD
END:VTIMEZONE
BEGIN:VEVENT
SUMMARY:WOG 03.03.2017 - 04.03.2017
DTSTAMP:20170227T182814Z
SEQUENCE:0
UID:458-1-5734b46ed07498cf109a779f6d92c724@wogames.info
ORGANIZER;CN="sup":no-reply@wogames.info
DESCRIPTION:\n\n	В пятницу 03.03.2017 играем:\n\n\n\n	1.
	 MuttenZ USMC — ЧДКЗ [Остров — Napf] Сторона
	 KND.TT в обороне\n\n\n\n	2. Оп
	ерация Кельбаджар TA — ЧСО 
	[Остров — Clafghan] Сторона KND.TT
	 в атаке\n\n\n\n	3. По коли
	честву игроков\n\n\n\n	Игровой админис
	тратор — [GHOST]sup\n\n\n\n	 \n\n\n\n	В субботу 04.
	03.2017 играем:\n\n\n\n	1. Operation Rodeo US Army — TA [
	Остров — Fayshkhabur] Сторона KND.TT 
	в атаке\n\n\n\n	2. Седьмой лепесток
	  ВС РФ — USMC [Остров — Caribou Frontier
	] Сторона KND.TT в обороне\n\n\n\n
		3. По количеству игроков\n\n\n\n
		Игровой администратор — [RB]RavingRobo
	t\n\n\n\n	 \n\n\n\n	Командование:\n\n\n
	\n	\n\n\n	Миссии Се
	дьмой лепесток и
	 Операция Кельбаджар будут изменены
	 в течение недели.\n\n
DTSTART:20170303T180000Z
DTEND:20170304T205900Z
END:VEVENT
END:VCALENDAR
