BEGIN:VCALENDAR
VERSION:2.0
PRODID:-//IP.Board Calendar 4.3.6//EN
METHOD:PUBLISH
CALSCALE:GREGORIAN
X-WR-CALNAME:WOG
BEGIN:VTIMEZONE
TZID:Europe/London
TZURL:http://tzurl.org/zoneinfo/Europe/London
X-LIC-LOCATION:Europe/London
BEGIN:DAYLIGHT
TZOFFSETFROM:+0000
TZOFFSETTO:+0100
TZNAME:BST
DTSTART:20170326T020000Z
RRULE:FREQ=YEARLY;BYMONTH=3;BYDAY=-1SU
END:DAYLIGHT
BEGIN:STANDARD
TZOFFSETFROM:+0100
TZOFFSETTO:+0000
TZNAME:GMT
DTSTART:20171029T020000Z
RRULE:FREQ=YEARLY;BYMONTH=10;BYDAY=-1SU
END:STANDARD
END:VTIMEZONE
BEGIN:VEVENT
SUMMARY:Weekly Open Games 23.02.2017-25.02.2017
DTSTAMP:20170219T175846Z
SEQUENCE:0
UID:454-1-5734b46ed07498cf109a779f6d92c724@wogames.info
ORGANIZER;CN="MaDnEss":no-reply@wogames.info
DESCRIPTION:\n\n	В четверг 23.02.2017 играем:\n\n\n\n
		1. Crash Damb ВС РФ + ЧДКЗ — US Army + Ч
	СО [Остров — Chernarus] сторона КНД в оборон
	е\n\n\n\n	2. Last Resort US Army — ВС РФ [Остро
	в — Thirsk Winter] сторона КНД в а
	таке\n\n\n\n	3. По количеству
	 игроков\n\n\n\n	Игровой администратор — -[S
	F]- Shockster\n\n\n\n	 \n\n\n\n	В пятницу 24.02.2017 игр
	аем:\n\n\n\n	1. Бойня в администра
	ции US Army — ВС РФ [Остров — Poda
	gorsk] сторона КНД в атаке\n\n\n\n	2.
	 Хаба-Хаба BAF — TM [Остров — Tak
	istan] сторона КНД в обороне\n\
	n\n\n	3. По количеству игроков\n\
	n\n\n	Игровой администратор — [KND]grifon\
	n\n\n\n	 \n\n\n\n	В субботу 25.02.2017 играем:\n\n\n\n	1.
	 Blood and Steel - Remastered ВС РФ — ЧСО [
	Остров — Chernarus] сторона К
	НД в обороне\n\n\n\n	2. Гармсар [↓
	] ОДКБ  — US Army [Остров — Takist
	an] сторона КНД в атаке\n\n\n
	\n	3. По количеству игроков\n\n\
	n\n	Игровой администратор — [GHOST]Rob\
	n\n\n\n	 \n\n\n\n	Командование:\n\n\n\n	\n
DTSTART:20170223T180000Z
DTEND:20170225T185900Z
END:VEVENT
END:VCALENDAR
