BEGIN:VCALENDAR
VERSION:2.0
PRODID:-//IP.Board Calendar 4.3.6//EN
METHOD:PUBLISH
CALSCALE:GREGORIAN
X-WR-CALNAME:WOG
BEGIN:VTIMEZONE
TZID:Europe/London
TZURL:http://tzurl.org/zoneinfo/Europe/London
X-LIC-LOCATION:Europe/London
BEGIN:DAYLIGHT
TZOFFSETFROM:+0000
TZOFFSETTO:+0100
TZNAME:BST
DTSTART:20170326T020000Z
RRULE:FREQ=YEARLY;BYMONTH=3;BYDAY=-1SU
END:DAYLIGHT
BEGIN:STANDARD
TZOFFSETFROM:+0100
TZOFFSETTO:+0000
TZNAME:GMT
DTSTART:20171029T020000Z
RRULE:FREQ=YEARLY;BYMONTH=10;BYDAY=-1SU
END:STANDARD
END:VTIMEZONE
BEGIN:VEVENT
SUMMARY:Weekly Open Games 17.02.2017-18.02.2017
DTSTAMP:20170213T183247Z
SEQUENCE:0
UID:451-1-5734b46ed07498cf109a779f6d92c724@wogames.info
ORGANIZER;CN="RavingRobot":no-reply@wogames.info
DESCRIPTION:\n\n	В пятницу 17.02.2017 играем:\n\n\n\n	1. 
	Democracy means War US Army — TA [Остров — Lingo
	r] Сторона KND в атаке\n\n\n\n	2. Blade Runner
	 US Army — TA [Остров — Takistan] Сторо
	на KND в обороне\n\n\n\n	3. По
	 количеству игроков\n\n\n\n	Игровой
	 администратор — [RB] RavingRobot\n\n\n\n	 \n\n\n
	\n	В субботу 18.02.2017 играем:\n\n\n\n	1. Fe
	ruz Abad USMC — TA [Остров — Takistan] Ст
	орона KND в обороне\
	n\n\n\n	2. Аркудовский б
	еспредел ВС СССР — ЧДКЗ [Ост
	ров — Podagorsk] Сторона KND в атак
	е\n\n\n\n	3. По количеству игро
	ков\n\n\n\n	Игровой администратор — [G
	HOST]Rob\n\n\n\n	 \n\n\n\n	Командование:\n\n\n\n	\n\
	n\n	 \n\n\n\n	ВНИМАНИЕ!\n\n\n\n	13.0
	2.17 было обновление с
	борки! Не забудьте проверить нал
	ичие папки wog_volumeVDPresets в папке us
	erconfig\, а также не забуд
	ьте заменить плагин рации в ТСе на верси
	ю 0.9.12!\n\n\n\n\n	 \n\n
DTSTART:20170217T180000Z
DTEND:20170218T185900Z
END:VEVENT
END:VCALENDAR
