BEGIN:VCALENDAR
VERSION:2.0
PRODID:-//IP.Board Calendar 4.3.6//EN
METHOD:PUBLISH
CALSCALE:GREGORIAN
X-WR-CALNAME:WOG
BEGIN:VTIMEZONE
TZID:Europe/London
TZURL:http://tzurl.org/zoneinfo/Europe/London
X-LIC-LOCATION:Europe/London
BEGIN:DAYLIGHT
TZOFFSETFROM:+0000
TZOFFSETTO:+0100
TZNAME:BST
DTSTART:20170326T020000Z
RRULE:FREQ=YEARLY;BYMONTH=3;BYDAY=-1SU
END:DAYLIGHT
BEGIN:STANDARD
TZOFFSETFROM:+0100
TZOFFSETTO:+0000
TZNAME:GMT
DTSTART:20171029T020000Z
RRULE:FREQ=YEARLY;BYMONTH=10;BYDAY=-1SU
END:STANDARD
END:VTIMEZONE
BEGIN:VEVENT
SUMMARY:WOG 10.02.2017 - 11.02.2017
DTSTAMP:20170206T105308Z
SEQUENCE:0
UID:446-1-5734b46ed07498cf109a779f6d92c724@wogames.info
ORGANIZER;CN="sup":no-reply@wogames.info
DESCRIPTION:\n\n	В пятницу 10.02.2017 играем:\n\n\n\n	1. 
	Operation: Beartrap US Army — TA [Остров — Fallujah
	] KND.TT в обороне\n\n\n\n	2. FrameUp BAF — ВДВ [О
	стров — Caribou Frontier]  KND.TT в ата
	ке\n\n\n\n	3. По количеству игр
	оков\n\n\n\n	Игровой администратор — [RB] Ravi
	ngRobot\n\n\n\n	 \n\n\n\n	В субботу 11.02.2017 играем
	:\n\n\n\n	1. Билет в ад NAPA — ВС РФ [Остров —
	 Chernarus Winter] KND.TT в атаке\n\n\n\n	
	2. В Заргабаде TA — TL [Остро
	в — Заргабад] KND.TT в обороне \n
	\n\n\n	3. По количеству игроков\n
	\n\n\n	Игровой администратор — [LG] MaD
	nEss\n\n\n\n	 \n\n\n\n	Командование:\n\n\n\n	\n
DTSTART:20170210T180000Z
DTEND:20170211T205900Z
END:VEVENT
END:VCALENDAR
