BEGIN:VCALENDAR
VERSION:2.0
PRODID:-//IP.Board Calendar 4.3.6//EN
METHOD:PUBLISH
CALSCALE:GREGORIAN
X-WR-CALNAME:WOG
BEGIN:VTIMEZONE
TZID:Europe/London
TZURL:http://tzurl.org/zoneinfo/Europe/London
X-LIC-LOCATION:Europe/London
BEGIN:DAYLIGHT
TZOFFSETFROM:+0000
TZOFFSETTO:+0100
TZNAME:BST
DTSTART:20170326T020000Z
RRULE:FREQ=YEARLY;BYMONTH=3;BYDAY=-1SU
END:DAYLIGHT
BEGIN:STANDARD
TZOFFSETFROM:+0100
TZOFFSETTO:+0000
TZNAME:GMT
DTSTART:20171029T020000Z
RRULE:FREQ=YEARLY;BYMONTH=10;BYDAY=-1SU
END:STANDARD
END:VTIMEZONE
BEGIN:VEVENT
SUMMARY:WOG 27.01.2017 - 28.01.2017
DTSTAMP:20170122T160438Z
SEQUENCE:0
UID:437-1-5734b46ed07498cf109a779f6d92c724@wogames.info
ORGANIZER;CN="sup":no-reply@wogames.info
DESCRIPTION:\n\n	В пятницу 27.01.2017 играем:\n\n\n\
	n	 1. In bloom ВС РФ — ЧСО [Остров — Lingo
	r] KND.TT в атаке\n\n\n\n	2. Мертвый сез
	он (151) ВС РФ — PMC [Остров — Namalsk] KND.
	TT в обороне\n\n\n\n	3. По к
	оличеству игроков\n\n\n\n	Игровой ад
	мнистратор — [KND.TT]grifon\n\n\n\n	 \n\n\n\n	В
	 субботу 28.01.2017 играем:\n\n\n\n	1. Last Dit
	ch TA — TL [Остров — Reshmaan] KND.TT в обороне\n\n
	\n\n	2. From Foreland (v1.0) USMC — ВС РФ [Остров — Cari
	bou Frontier] KND.TT в атаке \n\n\n\n	3. По к
	оличеству игроков\n\n\n\n	Игровой а
	дминистратор — [GHOST]Rob\n\n\n\n	 \n\n\n\n	Командо
	вание:\n\n\n\n	\n\n
DTSTART:20170127T180000Z
DTEND:20170128T205900Z
END:VEVENT
END:VCALENDAR
