BEGIN:VCALENDAR
VERSION:2.0
PRODID:-//IP.Board Calendar 4.3.6//EN
METHOD:PUBLISH
CALSCALE:GREGORIAN
X-WR-CALNAME:WOG
BEGIN:VTIMEZONE
TZID:Europe/London
TZURL:http://tzurl.org/zoneinfo/Europe/London
X-LIC-LOCATION:Europe/London
BEGIN:DAYLIGHT
TZOFFSETFROM:+0000
TZOFFSETTO:+0100
TZNAME:BST
DTSTART:20170326T020000Z
RRULE:FREQ=YEARLY;BYMONTH=3;BYDAY=-1SU
END:DAYLIGHT
BEGIN:STANDARD
TZOFFSETFROM:+0100
TZOFFSETTO:+0000
TZNAME:GMT
DTSTART:20171029T020000Z
RRULE:FREQ=YEARLY;BYMONTH=10;BYDAY=-1SU
END:STANDARD
END:VTIMEZONE
BEGIN:VEVENT
SUMMARY:WOG 20.01.2016 — 21.01.2016
DTSTAMP:20170116T181601Z
SEQUENCE:0
UID:434-1-5734b46ed07498cf109a779f6d92c724@wogames.info
ORGANIZER;CN="sup":no-reply@wogames.info
DESCRIPTION:\n\n	В пятницу 20.01.2017 играем:\n\n\n\n	1. 
	World in Conflict ВС РФ — US Army [Остров
	 — Celle] Сторона KND.TT в обороне\n\n\n\n	2. Operatio
	n \"Night Hunting\" USMC — TM [Остров — PR FAT
	A] Сторона KND.TT в атаке\n\n\n\n	
	3. По количеству игроков\n\n\n\n	
	Игровой администратор — [RB]RavingRobot\n\n
	\n\n	 \n\n\n\n	В субботу 21.01.2017 играем:\n\
	n\n\n	1. Березовый щит (Hard Mode) US
	MC — RA [Остров — Podagorsk] Сторона
	 KND.TT в атаке\n\n\n\n	2. До конца 
	ВДВ — Боевики [Остров — Clafghan] Ст
	орона KND.TT в обороне\n\n\n\n	3.
	 По количеству игроков\n\n\n\n	Иг
	ровой администратор — [KND.TT]crabe\n\n\n
	\n	 \n\n\n\n	Командование:\n\n\n\n	\n
DTSTART:20170120T180000Z
DTEND:20170121T205900Z
END:VEVENT
END:VCALENDAR
