BEGIN:VCALENDAR
VERSION:2.0
PRODID:-//IP.Board Calendar 4.3.6//EN
METHOD:PUBLISH
CALSCALE:GREGORIAN
X-WR-CALNAME:WOG
BEGIN:VTIMEZONE
TZID:Europe/London
TZURL:http://tzurl.org/zoneinfo/Europe/London
X-LIC-LOCATION:Europe/London
BEGIN:DAYLIGHT
TZOFFSETFROM:+0000
TZOFFSETTO:+0100
TZNAME:BST
DTSTART:20170326T020000Z
RRULE:FREQ=YEARLY;BYMONTH=3;BYDAY=-1SU
END:DAYLIGHT
BEGIN:STANDARD
TZOFFSETFROM:+0100
TZOFFSETTO:+0000
TZNAME:GMT
DTSTART:20171029T020000Z
RRULE:FREQ=YEARLY;BYMONTH=10;BYDAY=-1SU
END:STANDARD
END:VTIMEZONE
BEGIN:VEVENT
SUMMARY:Weekly Open Games 13.01.2017-14.01.2017
DTSTAMP:20170109T153112Z
SEQUENCE:0
UID:430-1-5734b46ed07498cf109a779f6d92c724@wogames.info
ORGANIZER;CN="Rob":no-reply@wogames.info
DESCRIPTION:\n\n	\n\n\n	В пятницу 13.01.2017 играем:\n\n\
	n\n	1. Battlefield: Reshmann (↓) ОДКБ — US Army
	 [Остров — Reshmann] Сторона KND.TT в
	 обороне\n\n\n\n	2. Точка сброс
	а US Army — ВС РФ [Остров — Podagorsk] 
	Сторона KND.TT в атаке\n\n\n\n	3.
	 По количеству игроков\n\n\n\n	Иг
	ровой администратор — [GHOST]sup\n\n\n\n	 \
	n\n\n\n	В субботу 14.01.2017 играем:\n\n
	\n\n	1. Лопатино ВС РФ — ЧСО + US SF 
	[Остров — Chernarus Winter] Сторона KND.
	TT в атаке\n\n\n\n	2. Ка
	рачинар ТА — ВС РФ [Остро
	в — Такистан] Сторона KND.TT
	 в обороне\n\n\n\n	3. По ко
	личеству игроков\n\n\n\n	Игровой адм
	инистратор — [GHOST]Rob\n\n\n\n	 \n\n\n\n	Командо
	вание:\n\n\n\n	\n
DTSTART:20170113T180000Z
DTEND:20170114T205900Z
END:VEVENT
END:VCALENDAR
