BEGIN:VCALENDAR
VERSION:2.0
PRODID:-//IP.Board Calendar 4.3.6//EN
METHOD:PUBLISH
CALSCALE:GREGORIAN
X-WR-CALNAME:WOG
BEGIN:VTIMEZONE
TZID:Europe/London
TZURL:http://tzurl.org/zoneinfo/Europe/London
X-LIC-LOCATION:Europe/London
BEGIN:DAYLIGHT
TZOFFSETFROM:+0000
TZOFFSETTO:+0100
TZNAME:BST
DTSTART:20170326T020000Z
RRULE:FREQ=YEARLY;BYMONTH=3;BYDAY=-1SU
END:DAYLIGHT
BEGIN:STANDARD
TZOFFSETFROM:+0100
TZOFFSETTO:+0000
TZNAME:GMT
DTSTART:20171029T020000Z
RRULE:FREQ=YEARLY;BYMONTH=10;BYDAY=-1SU
END:STANDARD
END:VTIMEZONE
BEGIN:VEVENT
SUMMARY:Weekly Open Games 06.01.2017-07.01.2017
DTSTAMP:20170103T174103Z
SEQUENCE:0
UID:427-1-5734b46ed07498cf109a779f6d92c724@wogames.info
ORGANIZER;CN="RavingRobot":no-reply@wogames.info
DESCRIPTION:\n\n	\n\n\n	В пятницу 06.01.2017 играем:\n\n\n
	\n	1. Pirate Bay USMC — NAPA [Остров — Sahrani] 
	Сторона KND.TT в атаке\n\n\n\n	2. Stron
	ghold TL — Ополчение [Остров — Capra
	ia] Сторона KND.TT в обороне\n\n\n\
	n	3. По количеству игроков\n\n\n\
	n	Игровой администратор — [RB] RavingRobot\
	n\n\n\n	 \n\n\n\n	В субботу 07.01.2017 играем
	:\n\n\n\n	1. Гуглово (↓) ВС РФ — Ч
	СО [Остров — Chernarus] Сторона KND.TT в оборо
	не\n\n\n\n	2. Power Rangers US Rangers — NAPA [Остро
	в — Podagorsk] Сторона KND.TT в атаке\
	n\n\n\n	3. По количеству игроков
	\n\n\n\n	Игровой администратор — [LG] Ma
	DnEss\n\n\n\n	 \n\n\n\n	Командование:\n\n\n\n	\n
DTSTART:20170106T180000Z
DTEND:20170107T185900Z
END:VEVENT
END:VCALENDAR
