BEGIN:VCALENDAR
VERSION:2.0
PRODID:-//IP.Board Calendar 4.3.6//EN
METHOD:PUBLISH
CALSCALE:GREGORIAN
X-WR-CALNAME:WOG
BEGIN:VTIMEZONE
TZID:Europe/London
TZURL:http://tzurl.org/zoneinfo/Europe/London
X-LIC-LOCATION:Europe/London
BEGIN:DAYLIGHT
TZOFFSETFROM:+0000
TZOFFSETTO:+0100
TZNAME:BST
DTSTART:20160327T020000Z
RRULE:FREQ=YEARLY;BYMONTH=3;BYDAY=-1SU
END:DAYLIGHT
BEGIN:STANDARD
TZOFFSETFROM:+0100
TZOFFSETTO:+0000
TZNAME:GMT
DTSTART:20161030T020000Z
RRULE:FREQ=YEARLY;BYMONTH=10;BYDAY=-1SU
END:STANDARD
END:VTIMEZONE
BEGIN:VEVENT
SUMMARY:Weekly Open Games 23.12.2016-24.12.2016
DTSTAMP:20161218T184245Z
SEQUENCE:0
UID:417-1-5734b46ed07498cf109a779f6d92c724@wogames.info
ORGANIZER;CN="RavingRobot":no-reply@wogames.info
DESCRIPTION:\n\n	\n\n\n	В пятницу 23.12.2016 играем:\
	n\n\n\n	1. Мост ACR — ВС РФ [Остров — Cel
	le] Сторона KND.TT в атаке\n\n\n\n	2. Last Ditch
	 TA — TL [Остров — Reshmaan] Сторона 
	KND.TT в обороне\n\n\n\n	3. По к
	оличеству игроков\n\n\n\n	Игровой а
	дминистратор — [GHOST]sup\n\n\n\n	 \n\n\n\n	В
	 субботу 24.12.2016 играем:\n\n\n\n	1. Шок и
	 трепет UN + US Army — TA [Остров — Taki
	stan] Сторона KND.TT в обороне\n\n\n\n	2. Blood and St
	eel - Remastered ВС РФ — ЧСО [Остров — C
	hernarus] Сторона KND.TT в атаке\n\n\n\n	
	3. По количеству игроков\n\n\n\n
		Игровой администратор — [GHOST]Rob\n\
	n\n\n	 \n\n\n\n	Командование:\n\n\n\n	\n
DTSTART:20161223T180000Z
DTEND:20161224T185900Z
END:VEVENT
END:VCALENDAR
