BEGIN:VCALENDAR
VERSION:2.0
PRODID:-//IP.Board Calendar 4.3.6//EN
METHOD:PUBLISH
CALSCALE:GREGORIAN
X-WR-CALNAME:WOG
BEGIN:VTIMEZONE
TZID:Europe/London
TZURL:http://tzurl.org/zoneinfo/Europe/London
X-LIC-LOCATION:Europe/London
BEGIN:DAYLIGHT
TZOFFSETFROM:+0000
TZOFFSETTO:+0100
TZNAME:BST
DTSTART:20160327T020000Z
RRULE:FREQ=YEARLY;BYMONTH=3;BYDAY=-1SU
END:DAYLIGHT
BEGIN:STANDARD
TZOFFSETFROM:+0100
TZOFFSETTO:+0000
TZNAME:GMT
DTSTART:20161030T020000Z
RRULE:FREQ=YEARLY;BYMONTH=10;BYDAY=-1SU
END:STANDARD
END:VTIMEZONE
BEGIN:VEVENT
SUMMARY:WOG 16.12.2016 - 17.12.2016
DTSTAMP:20161211T224331Z
SEQUENCE:0
UID:414-1-5734b46ed07498cf109a779f6d92c724@wogames.info
ORGANIZER;CN="sup":no-reply@wogames.info
DESCRIPTION:\n\n	В пятницу 16.12.2016 играем:\n\n\n\n	1.
	 Coastline Edited ЧДКЗ — US Army [Остров — Cher
	narus] KND.TT за синих\n\n\n\n	2. Высота 101 
	TA — NAPA [Остров — Aliabad] KND.TT в
	 атаке\n\n\n\n	3. По количес
	тву игроков\n\n\n\n	Игровой администрато
	р — [GHOST]sup\n\n\n\n	 \n\n\n\n	В субботу 17.12.2016 иг
	раем:\n\n\n\n	1. Sunrise (180) ВС РФ — US Army [Ост
	ров — Takistan] KND.TT в атаке\n\n\n
	\n	2. Цитадель ВС РФ — TL [Остров — Cla
	fghan] KND.TT в обороне\n\n\n\n	3. По 
	количеству игроков\n\n\n\n	Игровой
	 администратор — [RB]RavingRobot\n\n\n\n	 \n\
	n\n\n	Командование:\n\n\n\n	\n\n\n	В
	нимание! Миссия \"Высота 101\" будет поп
	равлена и расширена.\n\n
DTSTART:20161216T180000Z
DTEND:20161217T205900Z
END:VEVENT
END:VCALENDAR
