BEGIN:VCALENDAR
VERSION:2.0
PRODID:-//IP.Board Calendar 4.3.6//EN
METHOD:PUBLISH
CALSCALE:GREGORIAN
X-WR-CALNAME:WOG
BEGIN:VTIMEZONE
TZID:Europe/London
TZURL:http://tzurl.org/zoneinfo/Europe/London
X-LIC-LOCATION:Europe/London
BEGIN:DAYLIGHT
TZOFFSETFROM:+0000
TZOFFSETTO:+0100
TZNAME:BST
DTSTART:20160327T020000Z
RRULE:FREQ=YEARLY;BYMONTH=3;BYDAY=-1SU
END:DAYLIGHT
BEGIN:STANDARD
TZOFFSETFROM:+0100
TZOFFSETTO:+0000
TZNAME:GMT
DTSTART:20161030T020000Z
RRULE:FREQ=YEARLY;BYMONTH=10;BYDAY=-1SU
END:STANDARD
END:VTIMEZONE
BEGIN:VEVENT
SUMMARY:WOG 09.12.2016 - 10.12.2016
DTSTAMP:20161204T200714Z
SEQUENCE:0
UID:410-1-5734b46ed07498cf109a779f6d92c724@wogames.info
ORGANIZER;CN="sup":no-reply@wogames.info
DESCRIPTION:\n\n	В пятницу 09.12.2016 играем:\
	n\n\n\n	1. Закат Короля US Army — TA [Остров
	 — Reshmaan] Сторона KND.TT в атаке\n\n\n\n	2. 
	Farm Drug (↓158) ВС РФ — INS [Остров
	 — Podagorsk] Сторона KND.TT в оборо
	не\n\n\n\n	3. По количеству игр
	оков\n\n\n\n	Игровой администратор — [GH
	OST]sup\n\n\n\n	 \n\n\n\n	В субботу 10.12.2016 игра
	ем: \n\n\n\n	1. Цитадель ВС РФ — TL 
	[Остров — Clafghan] Сторона KND.TT
	 в обороне\n\n\n\n	2. Пос
	ледний оплот (↓) ЧДКЗ — Ч
	СО [Остров — Thirsk] Сторона KND
	.TT в атаке\n\n\n\n	3. По кол
	ичеству игроков \n\n\n\n	Игровой адм
	инистратор — [LG]MaDnEss\n\n\n\n	 \n\n\n\n	Команд
	ование:\n\n\n\n	\n
DTSTART:20161209T180000Z
DTEND:20161210T205900Z
END:VEVENT
END:VCALENDAR
