BEGIN:VCALENDAR
VERSION:2.0
PRODID:-//IP.Board Calendar 4.3.6//EN
METHOD:PUBLISH
CALSCALE:GREGORIAN
X-WR-CALNAME:WOG
BEGIN:VTIMEZONE
TZID:Europe/London
TZURL:http://tzurl.org/zoneinfo/Europe/London
X-LIC-LOCATION:Europe/London
BEGIN:DAYLIGHT
TZOFFSETFROM:+0000
TZOFFSETTO:+0100
TZNAME:BST
DTSTART:20160327T020000Z
RRULE:FREQ=YEARLY;BYMONTH=3;BYDAY=-1SU
END:DAYLIGHT
BEGIN:STANDARD
TZOFFSETFROM:+0100
TZOFFSETTO:+0000
TZNAME:GMT
DTSTART:20161030T020000Z
RRULE:FREQ=YEARLY;BYMONTH=10;BYDAY=-1SU
END:STANDARD
END:VTIMEZONE
BEGIN:VEVENT
SUMMARY:WOG 02.12.2016 - 03.12.2016
DTSTAMP:20161128T120417Z
SEQUENCE:0
UID:404-1-5734b46ed07498cf109a779f6d92c724@wogames.info
ORGANIZER;CN="sup":no-reply@wogames.info
DESCRIPTION:\n\n	ВНИМАНИЕ
	! Не забудьте ВОВРЕМЯ обно
	виться перед играми.\n\n\n\n	 \n\n\n\n	В
	 пятницу 02.12.2016 играем: \n\n\n\n	1. Naran
	 Dar TA — US Army [Остров — Takistan] KND.TT в обо
	роне\n\n\n\n	2. La vida y la muerte SLA — NAPA [Остро
	в — Lingor] KND.TT в атаке\n\n\n\n	3. П
	о количеству игроков\n\n\n\n	Игров
	ой администратор — [RB]RavingRobot\n\n\n\n	 \n\n
	\n\n	В субботу 03.12.2016 играем:\n\n\n\n	1. Pusta
	 (Winter) ВС РФ — USMC [Остров — Chernarus wi
	nter] KND.TT в атаке \n\n\n\n	2. Arsenal: origin 
	 US Army — TL [Остров — PR FATA] KND.TT
	 в обороне\n\n\n\n	3. По ко
	личеству игроков\n\n\n\n	Игровой адм
	инистратор — [LG]MaDnEss\n\n\n\n	 \n\n\n\n	Коман
	дование:\n\n\n\n	\n\n\n	 \n\n\n\n	 \n\n\n\n	 \n\n
DTSTART:20161202T180000Z
DTEND:20161203T205900Z
END:VEVENT
END:VCALENDAR
