BEGIN:VCALENDAR
VERSION:2.0
PRODID:-//IP.Board Calendar 4.3.6//EN
METHOD:PUBLISH
CALSCALE:GREGORIAN
X-WR-CALNAME:WOG
BEGIN:VTIMEZONE
TZID:Europe/London
TZURL:http://tzurl.org/zoneinfo/Europe/London
X-LIC-LOCATION:Europe/London
BEGIN:DAYLIGHT
TZOFFSETFROM:+0000
TZOFFSETTO:+0100
TZNAME:BST
DTSTART:20160327T020000Z
RRULE:FREQ=YEARLY;BYMONTH=3;BYDAY=-1SU
END:DAYLIGHT
BEGIN:STANDARD
TZOFFSETFROM:+0100
TZOFFSETTO:+0000
TZNAME:GMT
DTSTART:20161030T020000Z
RRULE:FREQ=YEARLY;BYMONTH=10;BYDAY=-1SU
END:STANDARD
END:VTIMEZONE
BEGIN:VEVENT
SUMMARY:Weekly Open Games 25.11.2016-26.11.2016
DTSTAMP:20161121T165438Z
SEQUENCE:0
UID:401-1-5734b46ed07498cf109a779f6d92c724@wogames.info
ORGANIZER;CN="RavingRobot":no-reply@wogames.info
DESCRIPTION:\n\n	\n\n\n	ВНИМАНИЕ!\n\n\n
	\n	Вступает в силу новая рота
	ция сторон!\n\n\n\n	Сторона KND     
	                                   
	                      Сторона неKND\n\n\n\n	KND.TT + R
	B + GHOST + MOR + WFA + SF     |     RSG + BE + 5thPK + LG + FMF + FO
	X + A+\n\n\n\n	 \n\n\n\n	В пятницу 25.11.2016 играе
	м: \n\n\n\n	1. Жук в муравейнике TA
	 — TL [Остров — Fallujah] Сторона KND.TT в атак
	е\n\n\n\n	2. Capture Plant ЧСО — ЧВК [Остро
	в — Chernarus] Сторона KND.TT в обороне\n
	\n\n\n	3. Drunk Pilot ВС РФ — НАПА [Остро
	в — Sahrani] Сторона KND.TT в атаке\
	n\n\n\n	Игровой администратор - [GHOST]sup\n\
	n\n\n	 \n\n\n\n	В субботу 26.11.2016 играем:\n\n\n\n	1.
	 РЛО 64 US 75th Rangers — ВС РФ [Остров
	 — Caribou] Сторона KND.TT в обороне\n\
	n\n\n	2. Битва за Мишарах BAF + Iraqi Army
	 — TA [Остров — Faysh Khabur] Сторона KND.TT в
	 атаке\n\n\n\n	3. Farm Drug ВС РФ — INS [Остр
	ов — Podagorsk] Сторона KND.TT в 
	обороне\n\n\n\n	Игровой администратор - [LG
	] MaDnEss\n\n\n\n	 \n\n\n\n	Командование стор
	оной:\n\n\n\n	\n\n\n	Жел
	ающие игровые группы мо
	гут взять командование на третьих мисс
	иях.\n\n
DTSTART:20161125T180000Z
DTEND:20161126T180000Z
END:VEVENT
END:VCALENDAR
