BEGIN:VCALENDAR
VERSION:2.0
PRODID:-//IP.Board Calendar 4.3.6//EN
METHOD:PUBLISH
CALSCALE:GREGORIAN
X-WR-CALNAME:WOG
BEGIN:VTIMEZONE
TZID:Europe/London
TZURL:http://tzurl.org/zoneinfo/Europe/London
X-LIC-LOCATION:Europe/London
BEGIN:DAYLIGHT
TZOFFSETFROM:+0000
TZOFFSETTO:+0100
TZNAME:BST
DTSTART:20160327T020000Z
RRULE:FREQ=YEARLY;BYMONTH=3;BYDAY=-1SU
END:DAYLIGHT
BEGIN:STANDARD
TZOFFSETFROM:+0100
TZOFFSETTO:+0000
TZNAME:GMT
DTSTART:20161030T020000Z
RRULE:FREQ=YEARLY;BYMONTH=10;BYDAY=-1SU
END:STANDARD
END:VTIMEZONE
BEGIN:VEVENT
SUMMARY:Weekly Open Games 18.11.2016-19.11.2016
DTSTAMP:20161113T181513Z
SEQUENCE:0
UID:396-1-5734b46ed07498cf109a779f6d92c724@wogames.info
ORGANIZER;CN="RavingRobot":no-reply@wogames.info
DESCRIPTION:\n\n	\n\n\n	В пятницу 18.11.2016 играем: \n\n
	\n\n	1. Enduring Freedom ВС РФ — US Army + USMC [
	Остров — Celle] Сторона KND.TT в обороне\
	n\n\n\n	2. Winter Trail ВС РФ — KSK + CIV [Остров — S
	chwemlitz Winter] Сторона KND.TT в атаке
	\n\n\n\n	3. Все пошло не так TL — USMC
	 [Остров — Capraia] Сторона K
	ND.TT в обороне\n\n\n\n	Игровой администратор
	 - [LG] MaDnEss\n\n\n\n	 \n\n\n\n	В субботу 19.11.2016 игра
	ем:\n\n\n\n	1. The World Eater USMC — PMC [Остров — 
	Lingor] Сторона KND.TT в атаке\n\n\n\n	2. Л
	алезар TL + US Army — TA [Остров — Takis
	tan] Сторона KND.TT в обороне\n\n\n\n
		3. Gas TA — Солянка [Остров — Fallu
	jah] Сторона KND.TT в атаке\n\n\n\n	Игр
	овой администратор - [RB] RavingRobot\n
	\n\n\n	 \n\n\n\n	Командование сторон
	ой:\n\n\n\n	\n\n\n	Желаю
	щие игровые группы 
	могут взять командование на т
	ретьих миссиях.\n\n\n\n	 \n\n\n\n	Замены:\
	n\n\n\n	\n		Скрытый текст\n	\n\n	\n		\n			wog_183_pusta_23.Che
	rnarus.pbo\n\n			wog_154_arsenal_origin_13.fata.pbo\n\n			WOG_83_Lazarus_v
	12.reshmaan.pbo\n		\n	\n\n\n\n	 \n\n
DTSTART:20161118T180000Z
DTEND:20161120T000000Z
END:VEVENT
END:VCALENDAR
