BEGIN:VCALENDAR
VERSION:2.0
PRODID:-//IP.Board Calendar 4.3.6//EN
METHOD:PUBLISH
CALSCALE:GREGORIAN
X-WR-CALNAME:WOG
BEGIN:VTIMEZONE
TZID:Europe/London
TZURL:http://tzurl.org/zoneinfo/Europe/London
X-LIC-LOCATION:Europe/London
BEGIN:DAYLIGHT
TZOFFSETFROM:+0000
TZOFFSETTO:+0100
TZNAME:BST
DTSTART:20160327T020000Z
RRULE:FREQ=YEARLY;BYMONTH=3;BYDAY=-1SU
END:DAYLIGHT
BEGIN:STANDARD
TZOFFSETFROM:+0100
TZOFFSETTO:+0000
TZNAME:GMT
DTSTART:20161030T020000Z
RRULE:FREQ=YEARLY;BYMONTH=10;BYDAY=-1SU
END:STANDARD
END:VTIMEZONE
BEGIN:VEVENT
SUMMARY:WOG 11.11.2016 - 12.11.2016
DTSTAMP:20161107T173519Z
SEQUENCE:0
UID:392-1-5734b46ed07498cf109a779f6d92c724@wogames.info
ORGANIZER;CN="sup":no-reply@wogames.info
DESCRIPTION:\n\n	В пятницу 11.11.2016 играем:\n\n	1. Opera
	tion \"Rebel Storm\": Msta  ВС РФ — NAPA [Остров — Chern
	arus Winter] KND.TT в атаке \n\n	2. Манёвр 
	ТА — ВДВ [Остров — Reshman Province] КНД в обо
	роне\n\n	3. Control Yak Ghar US Army — ТА [Остр
	ов — Тora Bora] KND.TT в атаке\n\n\n\n
		Игровой администратор — [GHOST]sup\n
	\n\n\n	В субботу 12.11.2016 играем: \n\n	1. Air
	borne [↓] US Army — TA [Остров — Takistan] KND.T
	T в обороне\n\n	2. Black Berets ВС РФ — USMC 
	[Остров — Sahrani] KND.TT в атаке\n\n	3. Forsak
	en Fortress ТА — Ins [Остров — Clafgha
	n] КНД в обороне\n\n\n\n	Игровой ад
	министратор — [LG]MaDnEss\n\n\n\n	Коман
	дование:\n\n\n\n	\n\n\n
		Желающие игров
	ые группы могут взять 
	командование на третьих мисс
	иях.\n\n\n\n	Замены:\n\n\n\n	\n		Скрытый текст\n	\n\n
		\n		\n			wog_183_pusta_23.Chernarus.pbo\n\n			wog_154_arsenal_origin_13.f
	ata.pbo\n\n			WOG_83_Lazarus_v12.reshmaan.pbo\n		\n	\n\n\n\n	 \n\n
DTSTART:20161111T180000Z
DTEND:20161112T205900Z
END:VEVENT
END:VCALENDAR
