BEGIN:VCALENDAR
VERSION:2.0
PRODID:-//IP.Board Calendar 4.3.6//EN
METHOD:PUBLISH
CALSCALE:GREGORIAN
X-WR-CALNAME:WOG
BEGIN:VTIMEZONE
TZID:Europe/London
TZURL:http://tzurl.org/zoneinfo/Europe/London
X-LIC-LOCATION:Europe/London
BEGIN:DAYLIGHT
TZOFFSETFROM:+0000
TZOFFSETTO:+0100
TZNAME:BST
DTSTART:20160327T020000Z
RRULE:FREQ=YEARLY;BYMONTH=3;BYDAY=-1SU
END:DAYLIGHT
BEGIN:STANDARD
TZOFFSETFROM:+0100
TZOFFSETTO:+0000
TZNAME:GMT
DTSTART:20161030T020000Z
RRULE:FREQ=YEARLY;BYMONTH=10;BYDAY=-1SU
END:STANDARD
END:VTIMEZONE
BEGIN:VEVENT
SUMMARY:WOG 04.11.2016 - 05.11.2016
DTSTAMP:20161031T174931Z
SEQUENCE:0
UID:389-1-5734b46ed07498cf109a779f6d92c724@wogames.info
ORGANIZER;CN="sup":no-reply@wogames.info
DESCRIPTION:\n\n	В пятницу 04.11.2016 играем:\n\n	1. Kar
	achinar assault TA — US Army [Остров — Takistan] KN
	D.TT в обороне\n\n	2. Broken wings ЧСО — ЧДК
	З [Остров — Chernarus] KND.TT в атаке
	 \n\n	3. Gas TA — Солянка [Остров — Fall
	ujah] KND в обороне\n\n\n\n	Игровой админис
	тратор — [LG]MaDnEss\n\n\n\n	В субботу 05.11
	.2016 играем:\n\n	1. Холод ВС РФ — US Ar
	my [Остров — Podagorsk] KND.TT в атаке\n\n	2. Operati
	on Wajnam US Army — TA [Остров — Faysh Khabur] KND
	.TT в обороне \n\n	3. Чики Брики PMC 
	+ ЧСО + ВС РФ — ЧДКЗ + NAPA + CIV [Остров —
	 Namalsk] KND в атаке \n\n\n\n	Игровой админи
	стратор — [RB]RavingRobot\n\n\n\n	Командова
	ние:\n\n\n\n	\n\n\n	Жела
	ющие игровые групп
	ы могут взять командование
	 на третьих миссиях.\n\n\n\n	 \n\n\n\n
		Список замен:\n\n\n\n	\n		Скрытый текст\n	\n\n	\n	
		\n			wog_183_pusta_23.Chernarus.pbo\n\n			wog_154_arsenal_origin_13.fata.
	pbo\n\n			WOG_83_Lazarus_v12.reshmaan.pbo\n		\n	\n\n\n\n	 \n\n
DTSTART:20161104T180000Z
DTEND:20161105T205900Z
END:VEVENT
END:VCALENDAR
