BEGIN:VCALENDAR
VERSION:2.0
PRODID:-//IP.Board Calendar 4.3.6//EN
METHOD:PUBLISH
CALSCALE:GREGORIAN
X-WR-CALNAME:WOG
BEGIN:VTIMEZONE
TZID:Europe/London
TZURL:http://tzurl.org/zoneinfo/Europe/London
X-LIC-LOCATION:Europe/London
BEGIN:DAYLIGHT
TZOFFSETFROM:+0000
TZOFFSETTO:+0100
TZNAME:BST
DTSTART:20160327T020000Z
RRULE:FREQ=YEARLY;BYMONTH=3;BYDAY=-1SU
END:DAYLIGHT
BEGIN:STANDARD
TZOFFSETFROM:+0100
TZOFFSETTO:+0000
TZNAME:GMT
DTSTART:20161030T020000Z
RRULE:FREQ=YEARLY;BYMONTH=10;BYDAY=-1SU
END:STANDARD
END:VTIMEZONE
BEGIN:VEVENT
SUMMARY:WOG 28.10.2016 - 29.10.2016
DTSTAMP:20161024T193055Z
SEQUENCE:0
UID:386-1-5734b46ed07498cf109a779f6d92c724@wogames.info
ORGANIZER;CN="sup":no-reply@wogames.info
DESCRIPTION:\n\n	В пятницу 28.10.2016 играем:\n\n\n\n	1. 
	Overkill US Army — TA [Остров — Reshmaan Prov
	ince] Сторона KND.TT в обороне\n\n\n\n	2. Sahr
	ani Landing ВС РФ — NAPA [Остров — Sahran
	i] Сторона KND.TT в атаке\n\n\n\n
		3. По количеству игроков\n\n\n\n
		Игровой администратор — [RB] RavingRobot\n
	\n\n\n	 \n\n\n\n	В субботу 29.10.2016 играем: \n\n\n\n	1.
	 From Foreland USMC — ВС РФ [Остров — Caribou
	 Frontier] Сторона KND.TT в атаке\n\n\n\n	2. 
	FOB Khabur ОДКБ — BAF [Остров — Faysh Khabu
	r] Сторона KND.TT в обороне\n\n\n\n
		3. По количеству игроков\n\n\n
	\n	Игровой администратор — [LG] MaDnE
	ss\n\n\n\n	 \n\n\n\n	Командование:\n\n\n\n	\n
DTSTART:20161028T180000Z
DTEND:20161029T205900Z
END:VEVENT
END:VCALENDAR
