BEGIN:VCALENDAR
VERSION:2.0
PRODID:-//IP.Board Calendar 4.3.6//EN
METHOD:PUBLISH
CALSCALE:GREGORIAN
X-WR-CALNAME:WOG
BEGIN:VTIMEZONE
TZID:Europe/London
TZURL:http://tzurl.org/zoneinfo/Europe/London
X-LIC-LOCATION:Europe/London
BEGIN:DAYLIGHT
TZOFFSETFROM:+0000
TZOFFSETTO:+0100
TZNAME:BST
DTSTART:20160327T020000Z
RRULE:FREQ=YEARLY;BYMONTH=3;BYDAY=-1SU
END:DAYLIGHT
BEGIN:STANDARD
TZOFFSETFROM:+0100
TZOFFSETTO:+0000
TZNAME:GMT
DTSTART:20161030T020000Z
RRULE:FREQ=YEARLY;BYMONTH=10;BYDAY=-1SU
END:STANDARD
END:VTIMEZONE
BEGIN:VEVENT
SUMMARY:Weekly Open Games 14.10.2016-15.10.2016
DTSTAMP:20161010T094612Z
SEQUENCE:0
UID:379-1-5734b46ed07498cf109a779f6d92c724@wogames.info
ORGANIZER;CN="RavingRobot":no-reply@wogames.info
DESCRIPTION:\n\n	\n\n\n	В пятницу 14.10.2016 играем: \n\n
	\n\n	1. Hold Fast TA — ACR [Остров — Zagrabad] 
	Сторона KND.TT в атаке\n\n\n\n	2
	. Штурм NAPA — ЧСО [Остров — Thi
	rsk] Сторона KND.TT в обороне\n\n\
	n\n	3. По количеству игроков\n\n\n\
	n	Игровой администратор - [RB] RavingRobot\n\
	n\n\n	 \n\n\n\n	В субботу 15.10.2016 играем:\
	n\n\n\n	1. Охота на волков TA — TL [О
	стров — Fallujah] Сторона KND.TT в обороне\n\
	n\n\n	2. Ashes to Ashes ВС РФ — ACR [Остров — 
	Lingor] Сторона KND.TT в атаке\n\n\n\n	
	3. По количеству игроков\n\n\n\n	Иг
	ровой администратор - [GHOST]sup\n\
	n\n\n	 \n\n\n\n	Командование стороной:\n\n\n\n	\n
DTSTART:20161014T180000Z
DTEND:20161015T180000Z
END:VEVENT
END:VCALENDAR
