BEGIN:VCALENDAR
VERSION:2.0
PRODID:-//IP.Board Calendar 4.3.6//EN
METHOD:PUBLISH
CALSCALE:GREGORIAN
X-WR-CALNAME:WOG
BEGIN:VTIMEZONE
TZID:Europe/London
TZURL:http://tzurl.org/zoneinfo/Europe/London
X-LIC-LOCATION:Europe/London
BEGIN:DAYLIGHT
TZOFFSETFROM:+0000
TZOFFSETTO:+0100
TZNAME:BST
DTSTART:20160327T020000Z
RRULE:FREQ=YEARLY;BYMONTH=3;BYDAY=-1SU
END:DAYLIGHT
BEGIN:STANDARD
TZOFFSETFROM:+0100
TZOFFSETTO:+0000
TZNAME:GMT
DTSTART:20161030T020000Z
RRULE:FREQ=YEARLY;BYMONTH=10;BYDAY=-1SU
END:STANDARD
END:VTIMEZONE
BEGIN:VEVENT
SUMMARY:Weekly Open Games 07.10.2016-08.10.2016
DTSTAMP:20161002T213404Z
SEQUENCE:0
UID:376-1-5734b46ed07498cf109a779f6d92c724@wogames.info
ORGANIZER;CN="RavingRobot":no-reply@wogames.info
DESCRIPTION:\n\n	\n\n\n	В пятницу 07.10.2016 играем: \n\n
	\n\n	1. Power plant ВС РФ — US Army [Остров — R
	eshmaan] Сторона KND.TT в атаке\n\n\n\n	2. 
	Раз в 4 года (РП) NAPA — ЧСО + ЧДК
	З [Остров — Chernarus] Сторона KND
	.TT в обороне\n\n\n\n	3. По к
	оличеству игроков\n\n\n\n	Игровой адми
	нистратор - [RB] RavingRobot\n\n\n\n	 \n\n\n\n	В с
	убботу 08.10.2016 играем:\n\n
	\n\n	1. Мертвые не говорят ВС 
	РФ — ЧСО [Остров — Chernarus] Сто
	рона KND.TT в обороне\n\n\n\n	2. По след
	у ACR — Iraq Army [Остров — Faysh Khabur] Сто
	рона KND.TT в атаке\n\n\n\n	3. По
	 количеству игроков\n\n\n\n	Игровой 
	администратор - [GHOST]sup\n\n\n\n	 \n\n
	\n\n	Командование стороной:\n\n\n\n	\n
DTSTART:20161007T180000Z
DTEND:20161008T180000Z
END:VEVENT
END:VCALENDAR
