BEGIN:VCALENDAR
VERSION:2.0
PRODID:-//IP.Board Calendar 4.3.6//EN
METHOD:PUBLISH
CALSCALE:GREGORIAN
X-WR-CALNAME:WOG
BEGIN:VTIMEZONE
TZID:Europe/London
TZURL:http://tzurl.org/zoneinfo/Europe/London
X-LIC-LOCATION:Europe/London
BEGIN:DAYLIGHT
TZOFFSETFROM:+0000
TZOFFSETTO:+0100
TZNAME:BST
DTSTART:20160327T020000Z
RRULE:FREQ=YEARLY;BYMONTH=3;BYDAY=-1SU
END:DAYLIGHT
BEGIN:STANDARD
TZOFFSETFROM:+0100
TZOFFSETTO:+0000
TZNAME:GMT
DTSTART:20161030T020000Z
RRULE:FREQ=YEARLY;BYMONTH=10;BYDAY=-1SU
END:STANDARD
END:VTIMEZONE
BEGIN:VEVENT
SUMMARY:WOG 23.09.2016 - 24.09.2016
DTSTAMP:20160920T193731Z
SEQUENCE:0
UID:370-1-5734b46ed07498cf109a779f6d92c724@wogames.info
ORGANIZER;CN="sup":no-reply@wogames.info
DESCRIPTION:\n\n	В пятницу 23.09.2016 играем:\n\n\n\
	n	1. Mosquito BAF — TA [Остров — Takistan] Ст
	орона KND.TT в атаке\n\n\n\n	2. Höllenhu
	nd ВС РФ — USMC [Остров — Schwemlitz]
	 Сторона KND.TT в обороне\n\n\n
	\n	3. По количеству игроков\n\n\
	n\n	Игровой администратор — [GHOST]sup\n\n
	\n\n	 \n\n\n\n	В субботу 24.09.2016 игра
	ем:\n\n\n\n	1. Бойня в администрац
	ии US Army — ВС РФ [Остров — Podagorsk
	] Сторона KND.TT в обороне\n\n\n\n	2. Freedo
	m Fighters USMC — ЧДКЗ [Остров — Lingor] Ст
	орона KND.TT в атаке\n\n\n\n	3. 
	По количеству игроков \n\n\n\n	
	Игровой администратор — [RB]RavingRo
	bot\n\n\n\n	 \n\n\n\n	Внимание! Спи
	ски командования обновлены.\n\n\n\n	Ко
	мандование:\n\n\n\n	\n
DTSTART:20160923T180000Z
DTEND:20160924T205900Z
END:VEVENT
END:VCALENDAR
