BEGIN:VCALENDAR
VERSION:2.0
PRODID:-//IP.Board Calendar 4.3.6//EN
METHOD:PUBLISH
CALSCALE:GREGORIAN
X-WR-CALNAME:WOG
BEGIN:VTIMEZONE
TZID:Europe/London
TZURL:http://tzurl.org/zoneinfo/Europe/London
X-LIC-LOCATION:Europe/London
BEGIN:DAYLIGHT
TZOFFSETFROM:+0000
TZOFFSETTO:+0100
TZNAME:BST
DTSTART:20160327T020000Z
RRULE:FREQ=YEARLY;BYMONTH=3;BYDAY=-1SU
END:DAYLIGHT
BEGIN:STANDARD
TZOFFSETFROM:+0100
TZOFFSETTO:+0000
TZNAME:GMT
DTSTART:20161030T020000Z
RRULE:FREQ=YEARLY;BYMONTH=10;BYDAY=-1SU
END:STANDARD
END:VTIMEZONE
BEGIN:VEVENT
SUMMARY:WOG 16.09.2016 - 17.09.2016
DTSTAMP:20160912T200410Z
SEQUENCE:0
UID:367-1-5734b46ed07498cf109a779f6d92c724@wogames.info
ORGANIZER;CN="sup":no-reply@wogames.info
DESCRIPTION:\n\n	В пятницу 16.09.2016 играем
	:\n\n\n\n	 1. Еда и патроны NAPA — ЧДКЗ [О
	стров — Chernarus Winter] KND.TT в атаке\n\n\n\n	2. Operati
	on \"Night Hunting\" USMC — TM [Остров — PR 
	FATA] Сторона KND.TT в обороне\n\n\n\
	n	3. По количеству игроков\n\n\n
	\n	Игровой администратор — [GHOST]sup\n\n\
	n\n	 \n\n\n\n	В субботу 17.09.2016 играем:
	\n\n\n\n	1. Березовый щит USMC — RA [
	Остров — Podagorsk] Сторона KND.TT в обороне\n\
	n\n\n	2.  Bridgehead part 1 US Army — TA [Остров — 
	Aliabad Region] Сторона KND.TT в атаке\n\
	n\n\n	3. По количеству игроков\n
	\n\n\n	Игровой администратор — [RB]Ra
	vingRobot\n\n\n\n	На миссиях \"Еда и патроны\"
	 и \"Night Hunting\" будут у
	резаны слот
	ы в течение недели. 
	Обновленные версии сразу
	 появятся в событии.\n\n\n\n	 \n\n\n\n	Команд
	ование:\n\n\n\n	\n\n
DTSTART:20160916T180000Z
DTEND:20160917T205900Z
END:VEVENT
END:VCALENDAR
