BEGIN:VCALENDAR
VERSION:2.0
PRODID:-//IP.Board Calendar 4.3.6//EN
METHOD:PUBLISH
CALSCALE:GREGORIAN
X-WR-CALNAME:WOG
BEGIN:VTIMEZONE
TZID:Europe/London
TZURL:http://tzurl.org/zoneinfo/Europe/London
X-LIC-LOCATION:Europe/London
BEGIN:DAYLIGHT
TZOFFSETFROM:+0000
TZOFFSETTO:+0100
TZNAME:BST
DTSTART:20160327T020000Z
RRULE:FREQ=YEARLY;BYMONTH=3;BYDAY=-1SU
END:DAYLIGHT
BEGIN:STANDARD
TZOFFSETFROM:+0100
TZOFFSETTO:+0000
TZNAME:GMT
DTSTART:20161030T020000Z
RRULE:FREQ=YEARLY;BYMONTH=10;BYDAY=-1SU
END:STANDARD
END:VTIMEZONE
BEGIN:VEVENT
SUMMARY:WOG 09.09.2016 - 10.09.2016
DTSTAMP:20160906T194030Z
SEQUENCE:0
UID:364-1-5734b46ed07498cf109a779f6d92c724@wogames.info
ORGANIZER;CN="sup":no-reply@wogames.info
DESCRIPTION:\n\n	В пятницу 09.09.2016 играем:\n1. Rasman 
	armored US Army — TA [Остров — Takistan] KND 
	в атаке\n\n	2. Блицкриг US Army — В
	С РФ [Остров — Chernarus] KND в об
	ороне\n\n	3. По количеству игр
	оков\n\n\n\n	Игровой администратор - [GHOS
	T]sup\n\n\n\n	 \n\n\n\n	В субботу 10.09.2016 игр
	аем:\n1. Точка сброса US Army — ВС 
	РФ [Остров — Podagorsk] KND в об
	ороне\n\n	2. Тепловой удар US Army — 
	 ВСРФ [Остров — Caribou Frontier] 
	KND.TT в атаке\n3. По количес
	тву игроков\n\n\n\n	Игровой администр
	атор - [KND.TT]grifon\n\n\n\n	Командование:\n\n\n\n	\n
DTSTART:20160909T180000Z
DTEND:20160910T205900Z
END:VEVENT
END:VCALENDAR
