BEGIN:VCALENDAR
VERSION:2.0
PRODID:-//IP.Board Calendar 4.3.6//EN
METHOD:PUBLISH
CALSCALE:GREGORIAN
X-WR-CALNAME:WOG
BEGIN:VTIMEZONE
TZID:Europe/London
TZURL:http://tzurl.org/zoneinfo/Europe/London
X-LIC-LOCATION:Europe/London
BEGIN:DAYLIGHT
TZOFFSETFROM:+0000
TZOFFSETTO:+0100
TZNAME:BST
DTSTART:20160327T020000Z
RRULE:FREQ=YEARLY;BYMONTH=3;BYDAY=-1SU
END:DAYLIGHT
BEGIN:STANDARD
TZOFFSETFROM:+0100
TZOFFSETTO:+0000
TZNAME:GMT
DTSTART:20161030T020000Z
RRULE:FREQ=YEARLY;BYMONTH=10;BYDAY=-1SU
END:STANDARD
END:VTIMEZONE
BEGIN:VEVENT
SUMMARY:WOG 26.08.2016 - 27.08.2016
DTSTAMP:20160823T013722Z
SEQUENCE:0
UID:358-1-5734b46ed07498cf109a779f6d92c724@wogames.info
ORGANIZER;CN="sup":no-reply@wogames.info
DESCRIPTION:\n\n	В пятницу 26.08.2016 играем:
	 \n\n\n\n	1. Поп Иван ACR — ВС РФ [
	Остров — Chernarus] Сторона KND.TT в атаке\n\n\n
	\n	2. Under Sky USMC — TA [Остров — Lingor] KND.TT в
	 обороне\n\n\n\n	3. По колич
	еству игроков\n\n\n\n	Игровой администрат
	ор - [RB]RavingRobot\n\n\n\n	 \n\n\n\n	В субботу 27.08.20
	16 играем:\n\n\n\n	1. Incursion TA — USMC [Остров — R
	eshmaan Province] KND.TT в обороне\n\n\n\n	2.  S
	hamali TA — TL [Остров — Takistan] KND.TT
	 в атаке\n\n\n\n	3. По количе
	ству игроков\n\n\n\n	Игровой администратор
	 - [KND.TT]grifon\n\n\n\n	 \n\n\n\n	Командование: \n\
	n\n\n	\n\n\n	Миссии бу
	дут обновлены
	 до нужого количества слотов на этой
	 неделе. Спасибо Крабу.\n\n
DTSTART:20160826T180000Z
DTEND:20160827T205900Z
END:VEVENT
END:VCALENDAR
