BEGIN:VCALENDAR
VERSION:2.0
PRODID:-//IP.Board Calendar 4.3.6//EN
METHOD:PUBLISH
CALSCALE:GREGORIAN
X-WR-CALNAME:WOG
BEGIN:VTIMEZONE
TZID:Europe/London
TZURL:http://tzurl.org/zoneinfo/Europe/London
X-LIC-LOCATION:Europe/London
BEGIN:DAYLIGHT
TZOFFSETFROM:+0000
TZOFFSETTO:+0100
TZNAME:BST
DTSTART:20160327T020000Z
RRULE:FREQ=YEARLY;BYMONTH=3;BYDAY=-1SU
END:DAYLIGHT
BEGIN:STANDARD
TZOFFSETFROM:+0100
TZOFFSETTO:+0000
TZNAME:GMT
DTSTART:20161030T020000Z
RRULE:FREQ=YEARLY;BYMONTH=10;BYDAY=-1SU
END:STANDARD
END:VTIMEZONE
BEGIN:VEVENT
SUMMARY:WOG 19.08.2016 - 20.08.2016
DTSTAMP:20160816T155848Z
SEQUENCE:0
UID:350-1-5734b46ed07498cf109a779f6d92c724@wogames.info
ORGANIZER;CN="sup":no-reply@wogames.info
DESCRIPTION:\n\n	В пятницу 19.08.2016 играем:
	\n1. В Заргабаде TA — TL [Остров — Зарга
	бад\, 113] KND.TT в атаке\n\n	2. Mercalillo Base US A
	rmy — TA [Остров — Сахрани\, 99] K
	ND.TT в обороне\n\n	3. По к
	оличеству игроков\n\n\n\n	Игровой 
	администратор — [GHOST]sup\n\n\n\n	 \n\n\n\
	n	В суббота 20.08.2016 играем:\
	n1. Промышленная зона BAF — 
	Ins  [Остров — Фаллуджа\, 120] KN
	D.TT в обороне\n\n	2. Чак-чак TA 
	— TL [Остров — Такистан\, 1
	10] KND.TT в атаке\n\n	3. По ко
	личеству игроков\n\n\n\n	Игровой ад
	министратор — [KND.TT]grifon\n\n\n\n	 \n\n\n\n	
	Командование:\n\n\n\n	\n\n\n\n	 \n\n
DTSTART:20160819T180000Z
DTEND:20160820T205900Z
END:VEVENT
END:VCALENDAR
