BEGIN:VCALENDAR
VERSION:2.0
PRODID:-//IP.Board Calendar 4.3.6//EN
METHOD:PUBLISH
CALSCALE:GREGORIAN
X-WR-CALNAME:WOG
BEGIN:VTIMEZONE
TZID:Europe/London
TZURL:http://tzurl.org/zoneinfo/Europe/London
X-LIC-LOCATION:Europe/London
BEGIN:DAYLIGHT
TZOFFSETFROM:+0000
TZOFFSETTO:+0100
TZNAME:BST
DTSTART:20160327T020000Z
RRULE:FREQ=YEARLY;BYMONTH=3;BYDAY=-1SU
END:DAYLIGHT
BEGIN:STANDARD
TZOFFSETFROM:+0100
TZOFFSETTO:+0000
TZNAME:GMT
DTSTART:20161030T020000Z
RRULE:FREQ=YEARLY;BYMONTH=10;BYDAY=-1SU
END:STANDARD
END:VTIMEZONE
BEGIN:VEVENT
SUMMARY:WOG 12.08.2016 - 13.08.2016
DTSTAMP:20160808T221159Z
SEQUENCE:0
UID:347-1-5734b46ed07498cf109a779f6d92c724@wogames.info
ORGANIZER;CN="sup":no-reply@wogames.info
DESCRIPTION:\n\n	В пятницу 12.08.2016 игра
	ем:\n\n\n\n	1. Забытый край ВС РФ —
	 Боевики [Остров — Caribou Frontier] KND.TT в ат
	аке\n\n\n\n	2.  mFOB EAST GUARD TA — US Army [Остров
	 — Takistan] KND.TT в обороне \n\n\n\n	3
	. По количеству игроков\n\n\n\n	Игр
	овой администратор - [RB]RavingRobot\n\n\n\n	 \n
	\n\n\n	В субботу 13.08.2016 играем:\n\n\n\n	1. Oper
	ation \"Hot\" ЧСО — INS [Остров — Schwemlitz Win
	ter] KND.TT в обороне\n\n\n\n	2. П
	еревал Сары-Санг ВС РФ — US Army [Ос
	тров — Takistan] KND.TT в атаке\n\n\n\n	3
	. По количеству игроков\n\n\n\n	Игр
	овой администратор - [KND.TT]grifon\n\n\n\n	
	 \n\n\n\n	Командование:\n\n\n\n	\n
DTSTART:20160812T180000Z
DTEND:20160813T200000Z
END:VEVENT
END:VCALENDAR
