BEGIN:VCALENDAR
VERSION:2.0
PRODID:-//IP.Board Calendar 4.3.6//EN
METHOD:PUBLISH
CALSCALE:GREGORIAN
X-WR-CALNAME:WOG
BEGIN:VTIMEZONE
TZID:Europe/London
TZURL:http://tzurl.org/zoneinfo/Europe/London
X-LIC-LOCATION:Europe/London
BEGIN:DAYLIGHT
TZOFFSETFROM:+0000
TZOFFSETTO:+0100
TZNAME:BST
DTSTART:20160327T020000Z
RRULE:FREQ=YEARLY;BYMONTH=3;BYDAY=-1SU
END:DAYLIGHT
BEGIN:STANDARD
TZOFFSETFROM:+0100
TZOFFSETTO:+0000
TZNAME:GMT
DTSTART:20161030T020000Z
RRULE:FREQ=YEARLY;BYMONTH=10;BYDAY=-1SU
END:STANDARD
END:VTIMEZONE
BEGIN:VEVENT
SUMMARY:WOG 05.08.2016 - 06.08.2016
DTSTAMP:20160801T193911Z
SEQUENCE:0
UID:343-1-5734b46ed07498cf109a779f6d92c724@wogames.info
ORGANIZER;CN="sup":no-reply@wogames.info
DESCRIPTION:\n\n	В пятницу 05.08.2016 играем
	:\n\n\n\n	1. Чёрная кровь US Army — INS [
	Остров — Caribou] KND.TT в атаке\n\n\n\n	2.  Ki
	ng of Hill  USMC — INS [Остров — Chernarus] KND.
	TT в обороне\n\n\n\n	3. По к
	оличеству игроков\n\n\n\n	Игровой адм
	инистратор - [GHOST]sup\n\n\n\n	 \n\n\n\n	В субб
	оту 06.08.2016 играем:\n\n\n\n	1. За ВД
	В! USMC — ВДВ РФ [Остров — Sahrani] KND.TT в 
	атаке\n\n\n\n	2. Bel Air USMC — TA [Остров —
	 Capraia] KND.TT в обороне\n\n\n\n	3. П
	о количеству игроков\n\n\n\n	Игровой
	 администратор - [KND.TT]grifon\n\n\n\n	 \n\n\n\
	n	Командование:\n\n\n\n	\n
DTSTART:20160805T180000Z
DTEND:20160806T200000Z
END:VEVENT
END:VCALENDAR
