BEGIN:VCALENDAR
VERSION:2.0
PRODID:-//IP.Board Calendar 4.3.6//EN
METHOD:PUBLISH
CALSCALE:GREGORIAN
X-WR-CALNAME:WOG
BEGIN:VTIMEZONE
TZID:Europe/London
TZURL:http://tzurl.org/zoneinfo/Europe/London
X-LIC-LOCATION:Europe/London
BEGIN:DAYLIGHT
TZOFFSETFROM:+0000
TZOFFSETTO:+0100
TZNAME:BST
DTSTART:20160327T020000Z
RRULE:FREQ=YEARLY;BYMONTH=3;BYDAY=-1SU
END:DAYLIGHT
BEGIN:STANDARD
TZOFFSETFROM:+0100
TZOFFSETTO:+0000
TZNAME:GMT
DTSTART:20161030T020000Z
RRULE:FREQ=YEARLY;BYMONTH=10;BYDAY=-1SU
END:STANDARD
END:VTIMEZONE
BEGIN:VEVENT
SUMMARY:Weekly Open Games 29.07.2016 - 30.07.2016
DTSTAMP:20160725T213203Z
SEQUENCE:0
UID:341-1-5734b46ed07498cf109a779f6d92c724@wogames.info
ORGANIZER;CN="sup":no-reply@wogames.info
DESCRIPTION:\n\n	\n\n\n	 \n\n\n\n	В пятницу 29.07.16 игра
	ем:\n\n\n\n	1. База Хассадар KSK + 
	TL — ВС РФ  [Остров — Fata] KND.TT в ата
	ке\n\n\n\n	2. Cold War USMC — ВС РФ [Остров — T
	hirsk Winter] KND.TT в обороне\n\n\n\n	3. По
	 количеству игроков\n\n\n\n	Игрово
	й администратор — [RB]RavingRobot\n\n\n\n	 \
	n\n\n\n	В субботу 30.07.16 играем:\n
	\n\n\n	1. Выбор ВС РФ — USMC [Остров — Che
	rnarus] KND.TT в обороне\n\n\n\n	2. Witness RP TL 
	— US Army [Остров — Takistan] KND.TT в 
	атаке\n\n\n\n	3. По количес
	тву игроков\n\n\n\n	Игровой администрато
	р — 5thPK_Cookie\n\n\n\n	 \n\n\n\n	Командование:\n\n\n\n	
	\n\n
DTSTART:20160729T180000Z
DTEND:20160730T200000Z
END:VEVENT
END:VCALENDAR
