BEGIN:VCALENDAR
VERSION:2.0
PRODID:-//IP.Board Calendar 4.3.6//EN
METHOD:PUBLISH
CALSCALE:GREGORIAN
X-WR-CALNAME:WOG
BEGIN:VTIMEZONE
TZID:Europe/London
TZURL:http://tzurl.org/zoneinfo/Europe/London
X-LIC-LOCATION:Europe/London
BEGIN:DAYLIGHT
TZOFFSETFROM:+0000
TZOFFSETTO:+0100
TZNAME:BST
DTSTART:20160327T020000Z
RRULE:FREQ=YEARLY;BYMONTH=3;BYDAY=-1SU
END:DAYLIGHT
BEGIN:STANDARD
TZOFFSETFROM:+0100
TZOFFSETTO:+0000
TZNAME:GMT
DTSTART:20161030T020000Z
RRULE:FREQ=YEARLY;BYMONTH=10;BYDAY=-1SU
END:STANDARD
END:VTIMEZONE
BEGIN:VEVENT
SUMMARY:Weekly Open Games 22.07.2016 - 23.07.2016
DTSTAMP:20160719T143327Z
SEQUENCE:0
UID:336-1-5734b46ed07498cf109a779f6d92c724@wogames.info
ORGANIZER;CN="sup":no-reply@wogames.info
DESCRIPTION:\n\n	\n\n\n	В пятницу 22.07.16 играем:\n\n\n\
	n	1. Nest of Vultures USMC — ТА [Остров — Takis
	tan] KND.TT в обороне \n\n\n\n	2. Armored Fist (Pa
	rt 1) TA — TL [Остров — Clafghan] KND.TT 
	в атаке\n\n\n\n	3. По коли
	честву игроков\n\n\n\n	Игровой админи
	стратор — [GHOST]sup\n\n\n\n	 \n\n\n\n	В субботу
	 23.07.16 играем:\n\n\n\n	1. Тир USMC — ВС РФ 
	[Остров — Sahrani] KND.TT в атаке\n\n\n\n	2. Checkpoi
	nt INS — US Army + KSK [Остров — Bystrica] KND.TT
	 в обороне\n\n\n\n	3. По к
	оличеству игроков\n\n\n\n	Игровой 
	администратор — [KND.TT]grifon\n\n\n\n	 \n\n\n
	\n	Командование:\n\n\n\n	\n
DTSTART:20160722T180000Z
DTEND:20160723T200000Z
END:VEVENT
END:VCALENDAR
