BEGIN:VCALENDAR
VERSION:2.0
PRODID:-//IP.Board Calendar 4.3.6//EN
METHOD:PUBLISH
CALSCALE:GREGORIAN
X-WR-CALNAME:WOG
BEGIN:VTIMEZONE
TZID:Europe/London
TZURL:http://tzurl.org/zoneinfo/Europe/London
X-LIC-LOCATION:Europe/London
BEGIN:DAYLIGHT
TZOFFSETFROM:+0000
TZOFFSETTO:+0100
TZNAME:BST
DTSTART:20160327T020000Z
RRULE:FREQ=YEARLY;BYMONTH=3;BYDAY=-1SU
END:DAYLIGHT
BEGIN:STANDARD
TZOFFSETFROM:+0100
TZOFFSETTO:+0000
TZNAME:GMT
DTSTART:20161030T020000Z
RRULE:FREQ=YEARLY;BYMONTH=10;BYDAY=-1SU
END:STANDARD
END:VTIMEZONE
BEGIN:VEVENT
SUMMARY:Weekly Open Games 08.07.2016 - 09.07.2016
DTSTAMP:20160705T131133Z
SEQUENCE:0
UID:331-1-5734b46ed07498cf109a779f6d92c724@wogames.info
ORGANIZER;CN="sup":no-reply@wogames.info
DESCRIPTION:\n\n	\n\n\n	Сторона KND.TT      
	                       Сторона SF  \n\n\n\n	KND.TT
	 FOX RSG MOR RB      |     SF 5thPK A+ GHOST FMF\n\n\n\n	 \n\
	n\n\n	В пятницу 08.07.16 играем:\n\n	1. Ло
	патино ВС РФ — US SF + CDF [Остров — Chernar
	us Winter] Сторона KND.TT в атаке\n\n	2. Хол
	од ВС РФ — US Army [Остров - Podagorsk] Cтор
	она KND.TT в обороне \n\n	3. По количе
	ству игроков\n\n\n\n	 \n\n\n\n	В субботу 09.07.1
	6 играем:\n\n	1. Last Resort ВС РФ — US Army [О
	стров — Thirsk Winter] Cторона KND.TT за с
	иних\n\n	2. Бастам  US Army — ВС Р
	Ф [Остров - Такистан] Сто
	рона KND.TT в обороне\n\n	3. По коли
	честву игроков\n\n\n\n	 \n\n\n\n	
	Внимание!\n\n\n\n	Игры пройдут на новом с
	ервере TeamSpeak\n\n\n\n	IP: wogames.info\n\n
DTSTART:20160708T180000Z
DTEND:20160709T200000Z
END:VEVENT
END:VCALENDAR
