BEGIN:VCALENDAR
VERSION:2.0
PRODID:-//IP.Board Calendar 4.3.6//EN
METHOD:PUBLISH
CALSCALE:GREGORIAN
X-WR-CALNAME:WOG
BEGIN:VTIMEZONE
TZID:Europe/London
TZURL:http://tzurl.org/zoneinfo/Europe/London
X-LIC-LOCATION:Europe/London
BEGIN:DAYLIGHT
TZOFFSETFROM:+0000
TZOFFSETTO:+0100
TZNAME:BST
DTSTART:20150329T020000Z
RRULE:FREQ=YEARLY;BYMONTH=3;BYDAY=-1SU
END:DAYLIGHT
BEGIN:STANDARD
TZOFFSETFROM:+0100
TZOFFSETTO:+0000
TZNAME:GMT
DTSTART:20151025T020000Z
RRULE:FREQ=YEARLY;BYMONTH=10;BYDAY=-1SU
END:STANDARD
END:VTIMEZONE
BEGIN:VEVENT
SUMMARY:Arma 3 MIG 20:00
DTSTAMP:20151227T070118Z
SEQUENCE:1
UID:316-1-5734b46ed07498cf109a779f6d92c724@wogames.info
ORGANIZER;CN="mib":no-reply@wogames.info
DESCRIPTION:\n\n\nНовость: http://mig.pw/arma-3-27-12-2015/\n
	Тема: http://wogames.info/topic/2520-27122015/\nTeamSpeak: TS.MIG.
	PW\nСервер: MIG\n\n\n\n
DTSTART;VALUE=DATE:20151227
END:VEVENT
END:VCALENDAR
