BEGIN:VCALENDAR
VERSION:2.0
PRODID:-//IP.Board Calendar 4.3.6//EN
METHOD:PUBLISH
CALSCALE:GREGORIAN
X-WR-CALNAME:WOG
BEGIN:VTIMEZONE
TZID:Europe/London
TZURL:http://tzurl.org/zoneinfo/Europe/London
X-LIC-LOCATION:Europe/London
BEGIN:DAYLIGHT
TZOFFSETFROM:+0000
TZOFFSETTO:+0100
TZNAME:BST
DTSTART:20150329T020000Z
RRULE:FREQ=YEARLY;BYMONTH=3;BYDAY=-1SU
END:DAYLIGHT
BEGIN:STANDARD
TZOFFSETFROM:+0100
TZOFFSETTO:+0000
TZNAME:GMT
DTSTART:20151025T020000Z
RRULE:FREQ=YEARLY;BYMONTH=10;BYDAY=-1SU
END:STANDARD
END:VTIMEZONE
BEGIN:VEVENT
SUMMARY:mWOG² IRON FRONT (ARMA 3)
DTSTAMP:20151012T152446Z
SEQUENCE:0
UID:300-1-5734b46ed07498cf109a779f6d92c724@wogames.info
ORGANIZER;CN="ToxaSM":no-reply@wogames.info
DESCRIPTION:\n\n\n\n\n\n​В четверг 15 Ок
	тября в 21:00 (МСК) пройдет игра W
	OG2: IFA3\n\n\n\nИгры стартуют до бриф
	инга в 21:10\n\n\n\nИгры пройдут на сервере: WOG 
	Iron Front Server #1\n\n\n\nIP: 193.19.118.182 Port: 2322\n\n\n\nпар
	оль: wogames\n\n\n\nСобираемся в 20:50\, коман
	дирам в 20:45 в ТС:\n\n\n\nwww.redeagle.ru:9989\n\
	n\n\n\nРекомендации к игровому процесс
	у \n\n\n\n\n\n\nCсылка ArmA3Sync на Lite версию:\nftp://193.
	19.118.182/Updater_WOG/ArmA3Sync/IF_Lite/\nСсылка ArmA3S
	ync на полную версию*:\nftp://193.19.118.182/Updater_WOG\\Ar
	mA3Sync\\IF/\nГайд по уста
	новке мода тут\n*За
	 получением логина и пароля обращ
	айтесь в личку к JustFighter\, Jakeri 
	Jg0re либо в нашу 
	скайп группу.\nСтрока 
	запуска на сегодняшний день выглядит та
	к:\n-nosplash\; -mod=@CBA_A3\;@LIB_DLC_1\;@IF\;@IFA3SA\;@IFA3M\;@IFA3\;@t
	ask_force_radio\;@WOG_IF\n\n\n
DTSTART;VALUE=DATE:20151015
END:VEVENT
END:VCALENDAR
