BEGIN:VCALENDAR
VERSION:2.0
PRODID:-//IP.Board Calendar 4.3.6//EN
METHOD:PUBLISH
CALSCALE:GREGORIAN
X-WR-CALNAME:WOG
BEGIN:VTIMEZONE
TZID:Europe/London
TZURL:http://tzurl.org/zoneinfo/Europe/London
X-LIC-LOCATION:Europe/London
BEGIN:DAYLIGHT
TZOFFSETFROM:+0000
TZOFFSETTO:+0100
TZNAME:BST
DTSTART:20140330T020000Z
RRULE:FREQ=YEARLY;BYMONTH=3;BYDAY=-1SU
END:DAYLIGHT
BEGIN:STANDARD
TZOFFSETFROM:+0100
TZOFFSETTO:+0000
TZNAME:GMT
DTSTART:20141026T020000Z
RRULE:FREQ=YEARLY;BYMONTH=10;BYDAY=-1SU
END:STANDARD
END:VTIMEZONE
BEGIN:VEVENT
SUMMARY:Weekly Open Games - 27.06.14
DTSTAMP:20140623T090209Z
SEQUENCE:0
UID:3-1-5734b46ed07498cf109a779f6d92c724@wogames.info
ORGANIZER;CN="ToxaSM":no-reply@wogames.info
DESCRIPTION:\n\n\n\n\n\n\n\n\nВ пятницу 27.06.14 играем:\n
	\n\n\n\n1. \nAssault on nest USMC - ChDKZ + ВС РФ [Остров - Sahr
	ani] KND.TT в обороне\n\n\n\n\n\n2. \nDamsel in distress US Ranger
	s - TL [Остров - Capraia] KND.TT в атаке\n\n\n\n\n3. 
	Останкино Inf USMC - ВС РФ [Остров - Chernaru
	s] KND.TT в обороне\n\n\n\nТЕМА ДЛЯ ОБСУЖДЕНИЯ\n\
	n\n
DTSTART;VALUE=DATE:20140627
END:VEVENT
END:VCALENDAR
