BEGIN:VCALENDAR
VERSION:2.0
PRODID:-//IP.Board Calendar 4.3.6//EN
METHOD:PUBLISH
CALSCALE:GREGORIAN
X-WR-CALNAME:WOG
BEGIN:VTIMEZONE
TZID:Europe/London
TZURL:http://tzurl.org/zoneinfo/Europe/London
X-LIC-LOCATION:Europe/London
BEGIN:DAYLIGHT
TZOFFSETFROM:+0000
TZOFFSETTO:+0100
TZNAME:BST
DTSTART:20150329T020000Z
RRULE:FREQ=YEARLY;BYMONTH=3;BYDAY=-1SU
END:DAYLIGHT
BEGIN:STANDARD
TZOFFSETFROM:+0100
TZOFFSETTO:+0000
TZNAME:GMT
DTSTART:20151025T020000Z
RRULE:FREQ=YEARLY;BYMONTH=10;BYDAY=-1SU
END:STANDARD
END:VTIMEZONE
BEGIN:VEVENT
SUMMARY:Weekly Open Games (ARMA 2)
DTSTAMP:20151009T121607Z
SEQUENCE:0
UID:296-1-5734b46ed07498cf109a779f6d92c724@wogames.info
ORGANIZER;CN="ToxaSM":no-reply@wogames.info
DESCRIPTION:\n\n\n\n\nВ пятницу 09.10.15 играем:
	\n\n\n1. \nЛенточка TL — US Army [Остров — Fallu
	jah] KND.TT в обороне\n\n\n\n2. \nПобитая со
	бака ЧСО — ACR + US Army [Остров — Sahrani] KND.TT 
	в атаке\n\n\n\n3. \nDirty War ВС РФ — INS [Остров — Pr
	oving Ground] KND.TT в обороне\n\n\nВ субботу 10.10.
	15 играем:\n\n\n1. \nOp.\"Rebel Storm: Chernogorsk\" NAPA 
	— USMC [Остров — Chernarus] KND.TT в атаке\n\n\n\n2. \nBri
	dgehead part 2 TA — USMC [Остров — Aliabad Region] KND.TT
	 за синих\n\n\n\n3. \nmAircav ЧСО — ЧДКЗ [Остр
	ов — Podagorsk] KND.TT в атаке\n\n\n
DTSTART;VALUE=DATE:20151009
END:VEVENT
END:VCALENDAR
