BEGIN:VCALENDAR
VERSION:2.0
PRODID:-//IP.Board Calendar 4.3.6//EN
METHOD:PUBLISH
CALSCALE:GREGORIAN
X-WR-CALNAME:WOG
BEGIN:VTIMEZONE
TZID:Europe/London
TZURL:http://tzurl.org/zoneinfo/Europe/London
X-LIC-LOCATION:Europe/London
BEGIN:DAYLIGHT
TZOFFSETFROM:+0000
TZOFFSETTO:+0100
TZNAME:BST
DTSTART:20150329T020000Z
RRULE:FREQ=YEARLY;BYMONTH=3;BYDAY=-1SU
END:DAYLIGHT
BEGIN:STANDARD
TZOFFSETFROM:+0100
TZOFFSETTO:+0000
TZNAME:GMT
DTSTART:20151025T020000Z
RRULE:FREQ=YEARLY;BYMONTH=10;BYDAY=-1SU
END:STANDARD
END:VTIMEZONE
BEGIN:VEVENT
SUMMARY:Weekly Open Games (ARMA 2)
DTSTAMP:20150828T112156Z
SEQUENCE:0
UID:283-1-5734b46ed07498cf109a779f6d92c724@wogames.info
ORGANIZER;CN="ToxaSM":no-reply@wogames.info
DESCRIPTION:\n\n\n\n\nВ пятницу 28.08.15 играем:\n\n1. Inv
	asion US Army — ВС РФ [Остров — Podagorsk] KND.TT в 
	обороне\n\n\n2. \nIn bloom ВС РФ — CDF [Остров 
	— Lingor] KND.TT в атаке\n\n\n\n3. \nDisappearer NAPA — 
	TA [Остров — Sahrani] KND.TT в обороне\n\n\n
	В субботу 29.08.15 играем:\n\n\n1. \nFirefly BAF —
	 TA [Остров — Takistan] KND.TT в атаке\n\n\n\n2. \nOverkil
	l US Army — TA [Остров — Reshmaan Province] KND.TT в об
	ороне\n\n\n\n3. \nВыбор ВС РФ — USMC [Остров
	 — Chernarus] KND.TT в атаке\n\n\n
DTSTART;VALUE=DATE:20150828
END:VEVENT
END:VCALENDAR
