BEGIN:VCALENDAR
VERSION:2.0
PRODID:-//IP.Board Calendar 4.3.6//EN
METHOD:PUBLISH
CALSCALE:GREGORIAN
X-WR-CALNAME:WOG
BEGIN:VTIMEZONE
TZID:Europe/London
TZURL:http://tzurl.org/zoneinfo/Europe/London
X-LIC-LOCATION:Europe/London
BEGIN:DAYLIGHT
TZOFFSETFROM:+0000
TZOFFSETTO:+0100
TZNAME:BST
DTSTART:20150329T020000Z
RRULE:FREQ=YEARLY;BYMONTH=3;BYDAY=-1SU
END:DAYLIGHT
BEGIN:STANDARD
TZOFFSETFROM:+0100
TZOFFSETTO:+0000
TZNAME:GMT
DTSTART:20151025T020000Z
RRULE:FREQ=YEARLY;BYMONTH=10;BYDAY=-1SU
END:STANDARD
END:VTIMEZONE
BEGIN:VEVENT
SUMMARY:mWOG начало 20:00
DTSTAMP:20150818T062847Z
SEQUENCE:1
UID:277-1-5734b46ed07498cf109a779f6d92c724@wogames.info
ORGANIZER;CN="yPSilon":no-reply@wogames.info
DESCRIPTION:\n\n\n\n\n\n\n\nТестиру
	ем обнову\, играем м
	ейсики на Лингоре\
	, классику и \, мож
	ет быть\, сдела
	ю что-нибудь 
	на Намальске и
	ли Эмите к сре
	де. Обратите 
	внимание на обновлени
	е сборки.\nНачало игр реш
	ил передвинуть на 20:00(
	msk) - надеюсь\, получи
	тся сыграть больше миссий
	. \nЕЩЁ РАЗ - НЕ ЗАБУДЬ ПРО ОБНОВЛЕНИЕ\
	, %USERNAME% !\n\n​\nСервер: wogames.info\nIP: 195.2.253.152\n
	Порт: 2302\nПароль: wogames\nТС: redeagle.ru:9987\n
DTSTART;VALUE=DATE:20150819
END:VEVENT
END:VCALENDAR
