BEGIN:VCALENDAR
VERSION:2.0
PRODID:-//IP.Board Calendar 4.3.6//EN
METHOD:PUBLISH
CALSCALE:GREGORIAN
X-WR-CALNAME:WOG
BEGIN:VTIMEZONE
TZID:Europe/London
TZURL:http://tzurl.org/zoneinfo/Europe/London
X-LIC-LOCATION:Europe/London
BEGIN:DAYLIGHT
TZOFFSETFROM:+0000
TZOFFSETTO:+0100
TZNAME:BST
DTSTART:20150329T020000Z
RRULE:FREQ=YEARLY;BYMONTH=3;BYDAY=-1SU
END:DAYLIGHT
BEGIN:STANDARD
TZOFFSETFROM:+0100
TZOFFSETTO:+0000
TZNAME:GMT
DTSTART:20151025T020000Z
RRULE:FREQ=YEARLY;BYMONTH=10;BYDAY=-1SU
END:STANDARD
END:VTIMEZONE
BEGIN:VEVENT
SUMMARY:miniWOG³
DTSTAMP:20150810T103439Z
SEQUENCE:1
UID:271-1-5734b46ed07498cf109a779f6d92c724@wogames.info
ORGANIZER;CN="Irokez":no-reply@wogames.info
DESCRIPTION:\n\n\nИгры стартуют до брифи
	нга в 21:05\n \n\n\n\nБрифинг огран
	ичен 20 мин\nСтарт 21:25\nИгры пройдут на 
	сервере: WOG ARMA3 Server #2\nIP: 193.19.118.182 Port: 2312\n
	пароль: wogames\n_______________________________________
	___\nСтрока запуска:\n-mod=@WOG3_Mods\;@AllInArmaTerrainPack\
	;@task_force_radio\;@WOG_Demo\;@WOG3_Islands\;@RHSAFRF\;@RHSUSAF\n
DTSTART;VALUE=DATE:20150810
END:VEVENT
END:VCALENDAR
