BEGIN:VCALENDAR
VERSION:2.0
PRODID:-//IP.Board Calendar 4.3.6//EN
METHOD:PUBLISH
CALSCALE:GREGORIAN
X-WR-CALNAME:WOG
BEGIN:VTIMEZONE
TZID:Europe/London
TZURL:http://tzurl.org/zoneinfo/Europe/London
X-LIC-LOCATION:Europe/London
BEGIN:DAYLIGHT
TZOFFSETFROM:+0000
TZOFFSETTO:+0100
TZNAME:BST
DTSTART:20150329T020000Z
RRULE:FREQ=YEARLY;BYMONTH=3;BYDAY=-1SU
END:DAYLIGHT
BEGIN:STANDARD
TZOFFSETFROM:+0100
TZOFFSETTO:+0000
TZNAME:GMT
DTSTART:20151025T020000Z
RRULE:FREQ=YEARLY;BYMONTH=10;BYDAY=-1SU
END:STANDARD
END:VTIMEZONE
BEGIN:VEVENT
SUMMARY:WOG2: Iron Front
DTSTAMP:20150805T092931Z
SEQUENCE:1
UID:267-1-5734b46ed07498cf109a779f6d92c724@wogames.info
ORGANIZER;CN="Jakeri":no-reply@wogames.info
DESCRIPTION:\n\n​В четверг 6 августа в 2
	1:00 (МСК) пройдет игра WOG2: Iron Fro
	nt\n\n\n\nИгры стартуют до брифи
	нга в 21:10 \n\n\n\nИгры пройдут на сервере: WOG I
	ron Front Server #1\n\n\n\nIP: 193.19.118.182 Port: 2322 пароль: wog
	ames\n\n\n\nСобираемся в (20:50) нашем новом ТС:\n\
	n\n\nwww.redeagle.ru:9989\n\n\n
DTSTART;VALUE=DATE:20150806
END:VEVENT
END:VCALENDAR
