BEGIN:VCALENDAR
VERSION:2.0
PRODID:-//IP.Board Calendar 4.3.6//EN
METHOD:PUBLISH
CALSCALE:GREGORIAN
X-WR-CALNAME:WOG
BEGIN:VTIMEZONE
TZID:Europe/London
TZURL:http://tzurl.org/zoneinfo/Europe/London
X-LIC-LOCATION:Europe/London
BEGIN:DAYLIGHT
TZOFFSETFROM:+0000
TZOFFSETTO:+0100
TZNAME:BST
DTSTART:20150329T020000Z
RRULE:FREQ=YEARLY;BYMONTH=3;BYDAY=-1SU
END:DAYLIGHT
BEGIN:STANDARD
TZOFFSETFROM:+0100
TZOFFSETTO:+0000
TZNAME:GMT
DTSTART:20151025T020000Z
RRULE:FREQ=YEARLY;BYMONTH=10;BYDAY=-1SU
END:STANDARD
END:VTIMEZONE
BEGIN:VEVENT
SUMMARY:mWOG начало 21:00
DTSTAMP:20150805T092102Z
SEQUENCE:1
UID:266-1-5734b46ed07498cf109a779f6d92c724@wogames.info
ORGANIZER;CN="yPSilon":no-reply@wogames.info
DESCRIPTION:\nПриходим\, игра
	ем мейцы. Быстро\
	, дерзко\, моло
	дёжно! Я поф
	иксил пару 
	нерабочих м
	исок. Также
	 сыграем свежачо
	к от картоделов нов
	ой волны Начало традиц
	ионно в 21:00 мск\, но е
	сли набегут ранее\, 
	то и начнём\, соот
	ветственно\, ран
	ьше.\n​\nНо\, просьба всех
	 явиться минут на пятнадцать раньше.\nhttp:/
	/wogames.info/topic/2026-mwog-0508\n​\nСервер:  wogames.info\nIP: 
	195.2.253.152\nПорт: 2302\nПароль: wogames\nТС: redeagle.ru:99
	87\n
DTSTART;VALUE=DATE:20150805
END:VEVENT
END:VCALENDAR
