BEGIN:VCALENDAR
VERSION:2.0
PRODID:-//IP.Board Calendar 4.3.6//EN
METHOD:PUBLISH
CALSCALE:GREGORIAN
X-WR-CALNAME:WOG
BEGIN:VTIMEZONE
TZID:Europe/London
TZURL:http://tzurl.org/zoneinfo/Europe/London
X-LIC-LOCATION:Europe/London
BEGIN:DAYLIGHT
TZOFFSETFROM:+0000
TZOFFSETTO:+0100
TZNAME:BST
DTSTART:20150329T020000Z
RRULE:FREQ=YEARLY;BYMONTH=3;BYDAY=-1SU
END:DAYLIGHT
BEGIN:STANDARD
TZOFFSETFROM:+0100
TZOFFSETTO:+0000
TZNAME:GMT
DTSTART:20151025T020000Z
RRULE:FREQ=YEARLY;BYMONTH=10;BYDAY=-1SU
END:STANDARD
END:VTIMEZONE
BEGIN:VEVENT
SUMMARY:WOG² IF - ARMA 3
DTSTAMP:20150722T132745Z
SEQUENCE:1
UID:257-1-5734b46ed07498cf109a779f6d92c724@wogames.info
ORGANIZER;CN="Jakeri":no-reply@wogames.info
DESCRIPTION:\n\nВ четверг 23 июня в 21:00 (МС
	К) пройдет игра WOG2: Iron Front\n\n\n\
	nИгры стартуют до брифинга в 21
	:10\n\n\n\nИгры пройдут на сервере: WOG Iron Front Ser
	ver #1\n\n\n\nIP: 193.19.118.182 Port: 2322\n\n\n\nпароль: wogames
	\n\n\nСобираемся в (20:50) TS: IP 193.19.119.188 Port: 99
	87\, пароль: 1945\n
DTSTART;VALUE=DATE:20150723
END:VEVENT
END:VCALENDAR
