BEGIN:VCALENDAR
VERSION:2.0
PRODID:-//IP.Board Calendar 4.3.6//EN
METHOD:PUBLISH
CALSCALE:GREGORIAN
X-WR-CALNAME:WOG
BEGIN:VTIMEZONE
TZID:Europe/London
TZURL:http://tzurl.org/zoneinfo/Europe/London
X-LIC-LOCATION:Europe/London
BEGIN:DAYLIGHT
TZOFFSETFROM:+0000
TZOFFSETTO:+0100
TZNAME:BST
DTSTART:20150329T020000Z
RRULE:FREQ=YEARLY;BYMONTH=3;BYDAY=-1SU
END:DAYLIGHT
BEGIN:STANDARD
TZOFFSETFROM:+0100
TZOFFSETTO:+0000
TZNAME:GMT
DTSTART:20151025T020000Z
RRULE:FREQ=YEARLY;BYMONTH=10;BYDAY=-1SU
END:STANDARD
END:VTIMEZONE
BEGIN:VEVENT
SUMMARY:mWOG² IFA3 21.07.2015
DTSTAMP:20150721T154012Z
SEQUENCE:0
UID:256-1-5734b46ed07498cf109a779f6d92c724@wogames.info
ORGANIZER;CN="Dock":no-reply@wogames.info
DESCRIPTION:\n\nВ виду того\, что иг
	р на VTN не будет\, ​во вторник 21
	 июля в 20:00 (МСК) пройдет игра WOG2: Ir
	on Front\n\n\n\nИгры стартуют до бриф
	инга в 20:10\n\n\n\nИгры пройдут на сервере: WOG 
	Iron Front Server #1\n\n\n\nIP: 193.19.118.182 Port: 2322\n\n\n\nпар
	оль: wogames\n\n\n\n                                                   
	                       Собираемся в (19:45) TS: IP 193.19.119.1
	88 Port: 9987\, пароль: 1945\n\n\n
DTSTART:20150721T154500Z
END:VEVENT
END:VCALENDAR
