BEGIN:VCALENDAR
VERSION:2.0
PRODID:-//IP.Board Calendar 4.3.6//EN
METHOD:PUBLISH
CALSCALE:GREGORIAN
X-WR-CALNAME:WOG
BEGIN:VTIMEZONE
TZID:Europe/London
TZURL:http://tzurl.org/zoneinfo/Europe/London
X-LIC-LOCATION:Europe/London
BEGIN:DAYLIGHT
TZOFFSETFROM:+0000
TZOFFSETTO:+0100
TZNAME:BST
DTSTART:20150329T020000Z
RRULE:FREQ=YEARLY;BYMONTH=3;BYDAY=-1SU
END:DAYLIGHT
BEGIN:STANDARD
TZOFFSETFROM:+0100
TZOFFSETTO:+0000
TZNAME:GMT
DTSTART:20151025T020000Z
RRULE:FREQ=YEARLY;BYMONTH=10;BYDAY=-1SU
END:STANDARD
END:VTIMEZONE
BEGIN:VEVENT
SUMMARY:Weekly Open Games (ARMA 3)
DTSTAMP:20150714T073527Z
SEQUENCE:0
UID:250-1-5734b46ed07498cf109a779f6d92c724@wogames.info
ORGANIZER;CN="ToxaSM":no-reply@wogames.info
DESCRIPTION:\n\n\n\n\n\n\nСуббота (18.07.2015) нача
	ло игр в 20:00 МСК\nАдминис
	трация на игры: Barsik\nБло
	када полуостровав.10 \; Локация - А
	лтис \; Автор - Jason\n\n\n\n\n\nСторона 1 (а)Inde
	pendent | NATO(о) Сторона 2\nБригада (RHS
	)в.1a \; Локация - Чернорусь \; Автор - Exo
	rcist\n\n\n\n\n\nСторона 1 (о)ВС РФ | US Army
	(а) Сторона 2\nТихие Зори (RHS)в.2.2 \;
	 Локация - Алтис \; Автор -Barsik\n\n\n\n\nС
	торона 1 (а)US Army | ВС РФ(о) Сторона 2\n\n\n
DTSTART;VALUE=DATE:20150718
END:VEVENT
END:VCALENDAR
